BEGIN:VCALENDAR
VERSION:2.0
PRODID:-//Sociale Kalender - ECPv6.2.9//NONSGML v1.0//EN
CALSCALE:GREGORIAN
METHOD:PUBLISH
X-WR-CALNAME:Sociale Kalender
X-ORIGINAL-URL:https://www.socialekalender.be
X-WR-CALDESC:Evenementen voor Sociale Kalender
REFRESH-INTERVAL;VALUE=DURATION:PT1H
X-Robots-Tag:noindex
X-PUBLISHED-TTL:PT1H
BEGIN:VTIMEZONE
TZID:Europe/Brussels
BEGIN:DAYLIGHT
TZOFFSETFROM:+0100
TZOFFSETTO:+0200
TZNAME:CEST
DTSTART:20200329T010000
END:DAYLIGHT
BEGIN:STANDARD
TZOFFSETFROM:+0200
TZOFFSETTO:+0100
TZNAME:CET
DTSTART:20201025T010000
END:STANDARD
END:VTIMEZONE
BEGIN:VEVENT
DTSTART;TZID=Europe/Brussels:20200113T190000
DTEND;TZID=Europe/Brussels:20200113T220000
DTSTAMP:20260425T193652
CREATED:20200102T150806Z
LAST-MODIFIED:20200102T150806Z
UID:3829-1578942000-1578952800@www.socialekalender.be
SUMMARY:Startdag opleiding CleanTechAmbassadeur
DESCRIPTION:Een CleanTechAmbassadeur heeft inzicht in onze huidige toestand en kennis over de mogelijkheden om actief deel te nemen aan de verduurzaming van onze toekomst. De CleanTechWereld bestaat uit tal van fascinerende\, innoverende bedrijven. ‘CleanTechAmbassadeurs’ leiden op een boeiende wijze bezoekers rond in deze bedrijven en projecten om de positieve en oplossende rol van Cleantech zichtbaar te maken.  Met behulp van heldere taal laten zij mensen in concrete situaties ervaren hoe het begrip ‘Cleantech’ in het dagelijks leven kan worden toegepast. Cleantech als oplossende rol voor de vele uitdagingen waar onze huidige samenleving voor staat zoals klimaatwijziging\, het belang van hernieuwbare energie\, het toepassen van circulaire economie\, duurzaam omgaan met grondstoffen\, water\, voedselproductie\, mobiliteit\, wonen\, recreatie\, enz… De opleiding tot CleanTechAmbassadeur omvat 11 lesavonden en een bedrijfsbezoek van 3 uur\, en duurt tot 27 april.
URL:https://www.socialekalender.be/evenement/startdag-opleiding-cleantechambassadeur-2/
LOCATION:Greenville\, oud mijngebouw\, Centrum-Zuid 1111\, Houthalen\, 3530
ATTACH;FMTTYPE=image/jpeg:https://www.socialekalender.be/wp-content/uploads/2020/01/Cleantech.jpg
END:VEVENT
END:VCALENDAR