BEGIN:VCALENDAR
VERSION:2.0
PRODID:-//Sociale Kalender - ECPv6.2.9//NONSGML v1.0//EN
CALSCALE:GREGORIAN
METHOD:PUBLISH
X-WR-CALNAME:Sociale Kalender
X-ORIGINAL-URL:https://www.socialekalender.be
X-WR-CALDESC:Evenementen voor Sociale Kalender
REFRESH-INTERVAL;VALUE=DURATION:PT1H
X-Robots-Tag:noindex
X-PUBLISHED-TTL:PT1H
BEGIN:VTIMEZONE
TZID:Europe/Brussels
BEGIN:DAYLIGHT
TZOFFSETFROM:+0100
TZOFFSETTO:+0200
TZNAME:CEST
DTSTART:20200329T010000
END:DAYLIGHT
BEGIN:STANDARD
TZOFFSETFROM:+0200
TZOFFSETTO:+0100
TZNAME:CET
DTSTART:20201025T010000
END:STANDARD
END:VTIMEZONE
BEGIN:VEVENT
DTSTART;TZID=Europe/Brussels:20200120T200000
DTEND;TZID=Europe/Brussels:20200120T220000
DTSTAMP:20260425T193652
CREATED:20200108T103459Z
LAST-MODIFIED:20200108T103459Z
UID:3834-1579550400-1579557600@www.socialekalender.be
SUMMARY:Oud en moe van dagen?!
DESCRIPTION:Er is iets raars aan de hand met de beeldvorming over ouderen in onze samenleving. Vroeger overheerste het ‘deficit-model’\, waarbij ouder worden enkel ‘verval’ betekende… Het beeld werd doorheen de jaren positiever: er komen steeds vaker heel fitte\, actieve\, ondernemende senioren in beeld\, wat uiteraard toe te juichen is. Anderzijds heerst er een maatschappelijk beeld dat ouderen\, wanneer ze geconfronteerd worden met verlies – in welke betekenis dan ook (lichamelijk\, relationeel\, mentaal…) – een ‘mensonwaardig’ leven leiden en/of ‘levensmoe’ zouden zijn. In deze lezing wil An Haekens dieper ingaan op die beelden en gehanteerde vooronderstellingen\, op de gevolgen van die beeldvorming zowel voor de ouderen als voor heel de samenleving. Zij is hoofdarts van de zorggroep Alexianen-Tienen.
URL:https://www.socialekalender.be/evenement/oud-en-moe-van-dagen/
LOCATION:Cultuurcentrum Hasselt (grote schouwburg)\, Kunstlaan 5\, Hasselt\, 3500\, België
ATTACH;FMTTYPE=image/jpeg:https://www.socialekalender.be/wp-content/uploads/2020/01/AN-HAEKENS.jpg
END:VEVENT
END:VCALENDAR