BEGIN:VCALENDAR
VERSION:2.0
PRODID:-//Sociale Kalender - ECPv6.2.9//NONSGML v1.0//EN
CALSCALE:GREGORIAN
METHOD:PUBLISH
X-WR-CALNAME:Sociale Kalender
X-ORIGINAL-URL:https://www.socialekalender.be
X-WR-CALDESC:Evenementen voor Sociale Kalender
REFRESH-INTERVAL;VALUE=DURATION:PT1H
X-Robots-Tag:noindex
X-PUBLISHED-TTL:PT1H
BEGIN:VTIMEZONE
TZID:Europe/Brussels
BEGIN:DAYLIGHT
TZOFFSETFROM:+0100
TZOFFSETTO:+0200
TZNAME:CEST
DTSTART:20200329T010000
END:DAYLIGHT
BEGIN:STANDARD
TZOFFSETFROM:+0200
TZOFFSETTO:+0100
TZNAME:CET
DTSTART:20201025T010000
END:STANDARD
END:VTIMEZONE
BEGIN:VEVENT
DTSTART;TZID=Europe/Brussels:20200121T093000
DTEND;TZID=Europe/Brussels:20200121T160000
DTSTAMP:20260425T193650
CREATED:20191223T165939Z
LAST-MODIFIED:20191223T165939Z
UID:3754-1579599000-1579622400@www.socialekalender.be
SUMMARY:Stiltedag
DESCRIPTION:Onder begeleiding van Willy Gielen gaan we een tekst doornemen\, samen mediteren\, een korte stiltewandeling houden en de ervaringen met elkaar delen. Ook de maaltijd wordt in stilte genuttigd. Voorts blijft er heel wat tijd over om zelf in te vullen. Gelieve mee te brengen: wat eten voor een gezamenlijke picknick\, leesmateriaal en gemakkelijke schoenen om te wandelen. Een seintje op voorhand is gemakkelijk.
URL:https://www.socialekalender.be/evenement/stiltedag-20/
LOCATION:Huis Ulburghs\, Sint-Annastraat 7\, Zolder\, 3550\, België
ATTACH;FMTTYPE=image/jpeg:https://www.socialekalender.be/wp-content/uploads/2019/12/Ulburghshuis.jpg
ORGANIZER;CN="Wim Gielen":MAILTO:g.wim@hotmail.com
END:VEVENT
END:VCALENDAR