BEGIN:VCALENDAR
VERSION:2.0
PRODID:-//Sociale Kalender - ECPv6.2.9//NONSGML v1.0//EN
CALSCALE:GREGORIAN
METHOD:PUBLISH
X-WR-CALNAME:Sociale Kalender
X-ORIGINAL-URL:https://www.socialekalender.be
X-WR-CALDESC:Evenementen voor Sociale Kalender
REFRESH-INTERVAL;VALUE=DURATION:PT1H
X-Robots-Tag:noindex
X-PUBLISHED-TTL:PT1H
BEGIN:VTIMEZONE
TZID:Europe/Paris
BEGIN:DAYLIGHT
TZOFFSETFROM:+0100
TZOFFSETTO:+0200
TZNAME:CEST
DTSTART:20200329T010000
END:DAYLIGHT
BEGIN:STANDARD
TZOFFSETFROM:+0200
TZOFFSETTO:+0100
TZNAME:CET
DTSTART:20201025T010000
END:STANDARD
END:VTIMEZONE
BEGIN:VEVENT
DTSTART;TZID=Europe/Paris:20200122T140000
DTEND;TZID=Europe/Paris:20200122T160000
DTSTAMP:20260425T193653
CREATED:20191029T152136Z
LAST-MODIFIED:20191029T152136Z
UID:3529-1579701600-1579708800@www.socialekalender.be
SUMMARY:The history of her story
DESCRIPTION:Op 22 januari organiseert Wereldvrouwen vzw een vertoning van de film en boek “The history of her story”. Hierin brengen 21 vluchtelingenvrouwen uit 15 landen hun verhaal\, langs welke wegen ze ooit als asielzoekster naar ons land kwamen. Hoe zij met vallen en opstaan een nieuwe thuis bouwen in Vlaanderen en een plek vinden waar ze een toekomst voor zichzelf zien. Aansluitend zal er een debat plaatsvinden. Ook is er een gesprek met de filmmaaksters. Het initiatief van dit project ging uit van de Vrouwenraad.
URL:https://www.socialekalender.be/evenement/the-history-of-her-story/
LOCATION:Bibliotheek Genk\, Stadsplein 3\, Genk\, 3600
ATTACH;FMTTYPE=image/png:https://www.socialekalender.be/wp-content/uploads/2019/10/history_intern.png
END:VEVENT
END:VCALENDAR