BEGIN:VCALENDAR
VERSION:2.0
PRODID:-//Sociale Kalender - ECPv6.2.9//NONSGML v1.0//EN
CALSCALE:GREGORIAN
METHOD:PUBLISH
X-WR-CALNAME:Sociale Kalender
X-ORIGINAL-URL:https://www.socialekalender.be
X-WR-CALDESC:Evenementen voor Sociale Kalender
REFRESH-INTERVAL;VALUE=DURATION:PT1H
X-Robots-Tag:noindex
X-PUBLISHED-TTL:PT1H
BEGIN:VTIMEZONE
TZID:Europe/Paris
BEGIN:DAYLIGHT
TZOFFSETFROM:+0100
TZOFFSETTO:+0200
TZNAME:CEST
DTSTART:20200329T010000
END:DAYLIGHT
BEGIN:STANDARD
TZOFFSETFROM:+0200
TZOFFSETTO:+0100
TZNAME:CET
DTSTART:20201025T010000
END:STANDARD
END:VTIMEZONE
BEGIN:VEVENT
DTSTART;TZID=Europe/Paris:20200125T091500
DTEND;TZID=Europe/Paris:20200125T183000
DTSTAMP:20260425T193652
CREATED:20191211T104841Z
LAST-MODIFIED:20191211T104841Z
UID:3719-1579943700-1579977000@www.socialekalender.be
SUMMARY:Duurzaam Leuven (uitstap)
DESCRIPTION:We wandelen samen naar de MAAKbar. Dat is een plek waar ze gereedschappen delen\, upcyclen en dingen herstellen in plaats van weg te gooien. We krijgen er een woordje uitleg over hun werking. Ook de verpakkingsvrije winkel Content komt even aan bod. In de namiddag neemt Bie Noe van B-Right ons mee op haar ontdekkingstocht rond duurzame mode. Ze vertelt ons het verhaal achter slow fashion en laat ons winkels en uiteenlopende merken zien. Treinreis in prijs inbegrepen. Afspraak in stationshal om 9.15u. Lunch zelf mee te nemen\, of een potje om iets te kopen bij Content. Terug in Hasselt om 18.30u. Heb je recht op een verhoogde tegemoetkoming\, dan kan je je voor € 7 inschrijven via Rap op Stap: http://horizontvzw.be/contact.
URL:https://www.socialekalender.be/evenement/duurzaam-leuven-uitstap/
LOCATION:Station Hasselt\, Stationsplein\, Hasselt\, Limburg\, 3500\, België
ATTACH;FMTTYPE=image/jpeg:https://www.socialekalender.be/wp-content/uploads/2019/12/content4.jpg
END:VEVENT
BEGIN:VEVENT
DTSTART;TZID=Europe/Paris:20200125T100000
DTEND;TZID=Europe/Paris:20200125T130000
DTSTAMP:20260425T193652
CREATED:20191105T162856Z
LAST-MODIFIED:20191105T162917Z
UID:3569-1579946400-1579957200@www.socialekalender.be
SUMMARY:Repaircafé Genk-Hoevenzavel
DESCRIPTION:Heb je een elektrotoestel dat niet meer werkt\, heeft je fiets een platte band of zit er een scheur in je broek? Laat het gratis herstellen op het Repair Café van Genk. Niets om te laten herstellen? Kom dan gezellig iets drinken\, iedereen is welkom! Het Repair Café in Genk vindt elke 4de zaterdag van de maand plaats\, maar niet op 28 december. Website: www.facebook.com/events/547724689050461.
URL:https://www.socialekalender.be/evenement/repaicafe-genk-hoevenzavel/
LOCATION:Dienstencentrum De Halm\, Halmstraat 9\, Genk\, Limburg\, 3600\, België
ATTACH;FMTTYPE=image/jpeg:https://www.socialekalender.be/wp-content/uploads/2019/05/Repair-Café-1024x682.jpg
ORGANIZER;CN="Stebo vzw":MAILTO:frank.maleska@stebo.be
END:VEVENT
END:VCALENDAR