BEGIN:VCALENDAR
VERSION:2.0
PRODID:-//Sociale Kalender - ECPv6.2.9//NONSGML v1.0//EN
CALSCALE:GREGORIAN
METHOD:PUBLISH
X-WR-CALNAME:Sociale Kalender
X-ORIGINAL-URL:https://www.socialekalender.be
X-WR-CALDESC:Evenementen voor Sociale Kalender
REFRESH-INTERVAL;VALUE=DURATION:PT1H
X-Robots-Tag:noindex
X-PUBLISHED-TTL:PT1H
BEGIN:VTIMEZONE
TZID:Europe/Paris
BEGIN:DAYLIGHT
TZOFFSETFROM:+0100
TZOFFSETTO:+0200
TZNAME:CEST
DTSTART:20200329T010000
END:DAYLIGHT
BEGIN:STANDARD
TZOFFSETFROM:+0200
TZOFFSETTO:+0100
TZNAME:CET
DTSTART:20201025T010000
END:STANDARD
END:VTIMEZONE
BEGIN:VEVENT
DTSTART;TZID=Europe/Paris:20200126T100000
DTEND;TZID=Europe/Paris:20200126T120000
DTSTAMP:20260425T193651
CREATED:20191201T191656Z
LAST-MODIFIED:20191201T191656Z
UID:3670-1580032800-1580040000@www.socialekalender.be
SUMMARY:Leeskring Mystiek over Wiesław Myśliwski
DESCRIPTION:We lezen samen fragmenten uit drie romans van deze bekende Poolse schrijver.  Het zijn dikke boeken waarin haast niets gebeurt\, maar waarin veel wordt verteld. Een trage verteller weidt uit over zijn belevenissen\, maar ondanks de tragiek en de wispelturigheid van het leven blijft hij diep in zichzelf verankerd. Hij omarmt en accepteert het leven. Stilaan begin je te beseffen dat hij je al vertellend bij de geheimzinnige kern van zijn persoonlijk leven brengt\, bij de essentie\, en hij doet je nadenken over jezelf. Je hoeft vooraf niets te lezen.
URL:https://www.socialekalender.be/evenement/leeskring-mystiek-over-wieslaw-mysliwski/
LOCATION:Huize Siloam\, Holsteenweg 17\, Zonhoven\, 3520
ATTACH;FMTTYPE=image/jpeg:https://www.socialekalender.be/wp-content/uploads/2019/12/mysliwski_wieslaw.jpg
END:VEVENT
END:VCALENDAR