BEGIN:VCALENDAR
VERSION:2.0
PRODID:-//Sociale Kalender - ECPv6.2.9//NONSGML v1.0//EN
CALSCALE:GREGORIAN
METHOD:PUBLISH
X-WR-CALNAME:Sociale Kalender
X-ORIGINAL-URL:https://www.socialekalender.be
X-WR-CALDESC:Evenementen voor Sociale Kalender
REFRESH-INTERVAL;VALUE=DURATION:PT1H
X-Robots-Tag:noindex
X-PUBLISHED-TTL:PT1H
BEGIN:VTIMEZONE
TZID:Europe/Brussels
BEGIN:DAYLIGHT
TZOFFSETFROM:+0100
TZOFFSETTO:+0200
TZNAME:CEST
DTSTART:20200329T010000
END:DAYLIGHT
BEGIN:STANDARD
TZOFFSETFROM:+0200
TZOFFSETTO:+0100
TZNAME:CET
DTSTART:20201025T010000
END:STANDARD
END:VTIMEZONE
BEGIN:VEVENT
DTSTART;TZID=Europe/Brussels:20200130T140000
DTEND;TZID=Europe/Brussels:20200130T163000
DTSTAMP:20260425T193652
CREATED:20200108T104447Z
LAST-MODIFIED:20200108T104447Z
UID:3839-1580392800-1580401800@www.socialekalender.be
SUMMARY:Hannah Arendt
DESCRIPTION:Hannah Arendt (1906-1975) is één van de invloedrijkste (politieke) filosofen van de 20ste eeuw. Arendt’s ideeën zijn actueler dan ooit. Op erudiete wijze fileert ze niet alleen het gedrag van politici\, maar ook dat van ons burgers. Tijdens de eerste namiddag geeft de spreker een inleiding over haar theorie van menselijke activiteiten en in de volgende wordt de stap naar het politieke gezet met aandacht voor de actualiteit. Dirk De Schutter (1954) was als hoogleraar verbonden aan de KULeuven (Campus Brussel) en aan Universiteit van Antwerpen. Hij vertaalde samen met Remi Peeters Totalitarisme\, één van Arendt’s hoofdwerken. Zijn laatste vertaling (het waagstuk van de politiek) bevat niet eerder in het Nederlands vertaalde essays van Arendt en een uniek interview van haar met Günter Gaus.
URL:https://www.socialekalender.be/evenement/hannah-arendt/
LOCATION:De Kring\, Bosstraat 7\, Hamont\, Limburg\, 3990\, België
ATTACH;FMTTYPE=image/jpeg:https://www.socialekalender.be/wp-content/uploads/2020/01/Hannah_Arendt_1975_cropped.jpg
END:VEVENT
BEGIN:VEVENT
DTSTART;TZID=Europe/Brussels:20200130T183000
DTEND;TZID=Europe/Brussels:20200130T203000
DTSTAMP:20260425T193652
CREATED:20200122T073705Z
LAST-MODIFIED:20200122T125023Z
UID:3902-1580409000-1580416200@www.socialekalender.be
SUMMARY:100 jaar Verdrag van Versailles
DESCRIPTION:“Nooit meer oorlog”\, zo klonk duidelijk de boodschap na het einde van de eerste wereldoorlog. Met dat doel voor ogen startten de politieke leiders van de overwinnaars begin 1919 in Parijs een conferentie die in juni van dat jaar uitmondde in “Het verdrag van Versailles”. De inwerkingtreding van het verdrag was op 10 januari 1920. Een opmerkelijke uitkomst van dat verdrag was de grondige hertekening van de kaart van Europa: Polen kwam terug op de kaart (het werd na 1815 verdeeld over Rusland\, Pruisen en Oostenrijk)\, Duitsland moest gebieden afstaan (ondermeer het door Duitsland in 1870 veroverde Elzas-Lotharingen)\, België kreeg enkele Duitse grensgebieden (de Oostkantons)\, Joegoslavië kwam op de kaart\, Oostenrijk-Hongarije werd ontmanteld (Hongarije moest 2/3 van zijn grondgebied afstaan)\, enz…  Het Ottomaanse Rijk (met ondermeer Palestina\, Irak\, de Koerden.) dat in 1918 mee ten onder gegaan was\, werd verdeeld onder de overwinnaars\, Frankrijk en Engeland.  Ondertussen weten we dat het doel “nooit meer oorlog” niet werd bereikt\, want 20 jaar later startte een nieuwe oorlog met als een van de grote drijfveren: de “schande van Versailles”\, zoals ze door nazi-Duitsland werd genoemd\, ongedaan maken. En tot op vandaag is het Midden-Oosten een bron van instabiliteit en conflicten. Maar toch werd in het zog van dit verdrag een heel andere internationale politiek uitgebouwd\, waarin samenwerking\, mensenrechten en verdragen een plaats kregen: van Volkenbond naar Verenigde Naties\, van de Universele Verklaring van de Rechten van de Mens naar het Internationaal Verdrag inzake Burgerrechten en Politieke Rechten en het Verdrag inzake de Rechten van het Kind. Paul Lansu neemt ons mee in dit verhaal. Hij is priester en behaalde een master in de Vredesstudies aan de universiteit van Bradford (UK). Hij is bestuurder bij Pax Christi International en Pax Christi Vlaanderen.Hij heeft een jarenlange ervaring opgedaan op vlak van veiligheid en ontwapening\, mensenrechten\, vredesopbouw\, spiritualiteit\, theologie en interreligieuze dialoog.
URL:https://www.socialekalender.be/evenement/100-jaar-verdrag-van-versailles/
LOCATION:kerk van Oud-Waterschei\, André Dumontlaan 218\, Genk\, 3600
ATTACH;FMTTYPE=image/jpeg:https://www.socialekalender.be/wp-content/uploads/2020/01/de_vrede_van_versailles.jpg
END:VEVENT
END:VCALENDAR