BEGIN:VCALENDAR
VERSION:2.0
PRODID:-//Sociale Kalender - ECPv6.2.9//NONSGML v1.0//EN
CALSCALE:GREGORIAN
METHOD:PUBLISH
X-WR-CALNAME:Sociale Kalender
X-ORIGINAL-URL:https://www.socialekalender.be
X-WR-CALDESC:Evenementen voor Sociale Kalender
REFRESH-INTERVAL;VALUE=DURATION:PT1H
X-Robots-Tag:noindex
X-PUBLISHED-TTL:PT1H
BEGIN:VTIMEZONE
TZID:Europe/Brussels
BEGIN:DAYLIGHT
TZOFFSETFROM:+0100
TZOFFSETTO:+0200
TZNAME:CEST
DTSTART:20200329T010000
END:DAYLIGHT
BEGIN:STANDARD
TZOFFSETFROM:+0200
TZOFFSETTO:+0100
TZNAME:CET
DTSTART:20201025T010000
END:STANDARD
END:VTIMEZONE
BEGIN:VEVENT
DTSTART;TZID=Europe/Brussels:20200201T090000
DTEND;TZID=Europe/Brussels:20200201T120000
DTSTAMP:20260425T193650
CREATED:20191224T125015Z
LAST-MODIFIED:20200111T104519Z
UID:3768-1580547600-1580558400@www.socialekalender.be
SUMMARY:Start cursus Natuurgids 
DESCRIPTION:De cursus bestaat uit 30 activiteiten\, waarvan ongeveer de helft natuurexcursies zijn. De activiteiten worden gespreid over een jaar zodat je de natuur in ieder seizoen leert kennen. Er zijn twee daguitstappen voorzien: op 16 mei naar Voeren en op 30 mei naar de Hoge Venen. Tijdens de schoolvakanties zijn er meestal geen lessen of excursies. Na je eindopdracht ontvang je het getuigschrift van Natuurgids. Met dit getuigschrift kan je later een gidsenbadge van Natuurpunt CVN behalen\, na het aantonen van praktijkervaring en gespecialiseerde didactische of inhoudelijke bijscholing. Meer informatie hierover ontvang je tijdens de cursus. De cursus Natuurgids is intensief en vereist een zeker niveau van engagement\, maar je wordt beloond met een verrijkende nieuwe hobby en kennis voor het leven. Zowel de theorie- als de praktijklessen vinden plaats op zaterdagvoormiddag van 09u00 tot 12u00
URL:https://www.socialekalender.be/evenement/start-cursus-natuurgids/
LOCATION:Provinciaal Natuurcentrum\, Craenevenne 86\, Genk (Bokrijk)\, Limburg\, 3600\, België
ATTACH;FMTTYPE=image/jpeg:https://www.socialekalender.be/wp-content/uploads/2019/12/cursus-natuurgids-2.jpg
END:VEVENT
END:VCALENDAR