BEGIN:VCALENDAR
VERSION:2.0
PRODID:-//Sociale Kalender - ECPv6.2.9//NONSGML v1.0//EN
CALSCALE:GREGORIAN
METHOD:PUBLISH
X-ORIGINAL-URL:https://www.socialekalender.be
X-WR-CALDESC:Evenementen voor Sociale Kalender
REFRESH-INTERVAL;VALUE=DURATION:PT1H
X-Robots-Tag:noindex
X-PUBLISHED-TTL:PT1H
BEGIN:VTIMEZONE
TZID:Europe/Paris
BEGIN:DAYLIGHT
TZOFFSETFROM:+0100
TZOFFSETTO:+0200
TZNAME:CEST
DTSTART:20200329T010000
END:DAYLIGHT
BEGIN:STANDARD
TZOFFSETFROM:+0200
TZOFFSETTO:+0100
TZNAME:CET
DTSTART:20201025T010000
END:STANDARD
END:VTIMEZONE
BEGIN:VEVENT
DTSTART;TZID=Europe/Paris:20200203T193000
DTEND;TZID=Europe/Paris:20200203T220000
DTSTAMP:20260425T162245
CREATED:20190819T125928Z
LAST-MODIFIED:20190819T125928Z
UID:3341-1580758200-1580767200@www.socialekalender.be
SUMMARY:zenmeditatie
DESCRIPTION:Centraal staat het zazen of de zitmeditatie\, op een kussen (op een bankje of een stoel kan ook). Dit gebeurt in een open en gastvrije groep van medebeoefenaars\, de sangha\, waarin iedere gemotiveerde zoeker\, van welke levensbeschouwing ook\, kan ’thuiskomen’. In deze groep wordt Soto Zen beoefend\, dit is de grootste zenschool in Japan met een traditie die teruggaat naar Dogen Zenji (1200-1253). De meditatie bestaat uit twee keer 35′ zazen\, afgewisseld met 10′ kinhin (wandelmeditatie). Nadien is er een korte ceremonie en een vragenronde. Je draagt best sobere en losse kledij in niet te felle kleuren (vb een training). \nMeditatiekussens en -matten zijn ter plaatse beschikbaar.  Deze zenmeditaties vinden elke maandag vanaf 9 september plaats in een achterliggend en losstaand paviljoen van Bethanië Godsheide\, Brugbemdenstraat 1\, 3500 Hasselt (dit is het vroegere bezinningscentrum van de jezuïeten). De toegangsweg naar de gebouwen ligt aan het kanaal in Godsheide. Het paviljoen ligt vlakbij de grote personeelsparking achteraan. De meditatie wordt begeleid door de zenmonnik Marc Journée (midden op de foto). De eerste sessie is gratis\, daarna wordt er een bijdrage van € 7 per sessie of € 25 per maand gevraagd.
URL:https://www.socialekalender.be/evenement/zenmeditatie-5/
LOCATION:Bethanië Godsheide\, Brugbemdenstraat 1\, Hasselt\, 3500\, België
ATTACH;FMTTYPE=image/jpeg:https://www.socialekalender.be/wp-content/uploads/2019/08/Marc-Journée-en-Tokuda.jpg
END:VEVENT
END:VCALENDAR