BEGIN:VCALENDAR
VERSION:2.0
PRODID:-//Sociale Kalender - ECPv6.2.9//NONSGML v1.0//EN
CALSCALE:GREGORIAN
METHOD:PUBLISH
X-ORIGINAL-URL:https://www.socialekalender.be
X-WR-CALDESC:Evenementen voor Sociale Kalender
REFRESH-INTERVAL;VALUE=DURATION:PT1H
X-Robots-Tag:noindex
X-PUBLISHED-TTL:PT1H
BEGIN:VTIMEZONE
TZID:Europe/Brussels
BEGIN:DAYLIGHT
TZOFFSETFROM:+0100
TZOFFSETTO:+0200
TZNAME:CEST
DTSTART:20200329T010000
END:DAYLIGHT
BEGIN:STANDARD
TZOFFSETFROM:+0200
TZOFFSETTO:+0100
TZNAME:CET
DTSTART:20201025T010000
END:STANDARD
END:VTIMEZONE
BEGIN:VEVENT
DTSTART;TZID=Europe/Brussels:20200213T193000
DTEND;TZID=Europe/Brussels:20200213T220000
DTSTAMP:20260425T223920
CREATED:20191224T122558Z
LAST-MODIFIED:20191224T122628Z
UID:3757-1581622200-1581631200@www.socialekalender.be
SUMMARY:Info-avond rond nieuwe woonvormen
DESCRIPTION:In cohousingprojecten delen de bewoners niet enkel lief en leed. Ook de gras- en wasmachine. De wagen. Tot zelfs de potten en pannen. Cohousing heeft vele voordelen\, maar is als woonvorm nog niet bekend bij het grote publiek. Wat houdt het precies in en hoe begin je eraan? Sprekers: advocaat R. Kumpen\, schepen Alessandro Cucchiara (bevoegd voor wijken en wonen en participatie) en werkgroep cohousing Genk.
URL:https://www.socialekalender.be/evenement/info-avond-rond-nieuwe-woonvormen/
LOCATION:Stadhuis Genk\, Stadsplein 1\, Genk\, 3600
ATTACH;FMTTYPE=image/jpeg:https://www.socialekalender.be/wp-content/uploads/2019/12/3x2_peer_03.jpg
END:VEVENT
END:VCALENDAR