BEGIN:VCALENDAR
VERSION:2.0
PRODID:-//Sociale Kalender - ECPv6.2.9//NONSGML v1.0//EN
CALSCALE:GREGORIAN
METHOD:PUBLISH
X-ORIGINAL-URL:https://www.socialekalender.be
X-WR-CALDESC:Evenementen voor Sociale Kalender
REFRESH-INTERVAL;VALUE=DURATION:PT1H
X-Robots-Tag:noindex
X-PUBLISHED-TTL:PT1H
BEGIN:VTIMEZONE
TZID:Europe/Brussels
BEGIN:DAYLIGHT
TZOFFSETFROM:+0100
TZOFFSETTO:+0200
TZNAME:CEST
DTSTART:20200329T010000
END:DAYLIGHT
BEGIN:STANDARD
TZOFFSETFROM:+0200
TZOFFSETTO:+0100
TZNAME:CET
DTSTART:20201025T010000
END:STANDARD
END:VTIMEZONE
BEGIN:VEVENT
DTSTART;TZID=Europe/Brussels:20200215T084500
DTEND;TZID=Europe/Brussels:20200215T170000
DTSTAMP:20260425T162244
CREATED:20191228T115051Z
LAST-MODIFIED:20191228T115051Z
UID:3799-1581756300-1581786000@www.socialekalender.be
SUMMARY:Limburgse contactdag natuuronderzoek
DESCRIPTION:Voor de 29° keer al vindt er  een jaarlijkse contactdag van de Limburgse Koepel voor Natuurstudie (LIKONA) plaats\, in het universiteitsgebouw van Diepenbeek. Zoals elk jaar geven de organisatoren een overzicht van allerlei recent natuuronderzoek binnen onze provinciegrenzen. Speciale aandacht gaat dit keer naar natuurverbinding\, en naar een proactief natuurbeheer om klimaatverandering te beperken. We ronden de studiedag af met beelden uit de lokale natuur van 2019\, op film vastgelegd door Frank Resseler. Daarna volgt nog met een receptie. Je kan een warme lunch (10 euro) of een broodje (5 euro) reserveren bij je inschrijving\, te betalen ter plaatse bij de aanmelding. Er is kinderopvang voorzien.
URL:https://www.socialekalender.be/evenement/limburgse-contactdag-natuuronderzoek-3/
LOCATION:Universitaire Campus (gebouw D)\, Diepenbeek\, 3590
ATTACH;FMTTYPE=image/jpeg:https://www.socialekalender.be/wp-content/uploads/2019/12/19_02_16_likona_1868jpg_47134519741_o.jpg
END:VEVENT
BEGIN:VEVENT
DTSTART;TZID=Europe/Brussels:20200215T143000
DTEND;TZID=Europe/Brussels:20200215T170000
DTSTAMP:20260425T162244
CREATED:20200120T152357Z
LAST-MODIFIED:20200120T152357Z
UID:3885-1581777000-1581786000@www.socialekalender.be
SUMMARY:Ri De Ridder over gezondheidszorg
DESCRIPTION:Ri De Ridder staat als voormalig huisarts aan de wieg van de Wijkgezondheidscentra en de forfaitaire geneeskunde. De laatste 12 jaar was hij hoofd van de Dienst Geneeskundige Verzorging van het RIZIV. Onlangs ging hij op pensioen\, en sindsdien is hij voorzitter van Dokters van de Wereld. In november verscheen van hem het boek “Goed ziek”. Hierin beschrijft hij hoe onze gezondheidszorg door allerlei belangen verziekt geraakt. Hij houdt een pleidooi voor buurtzorg en een betere afstemming van de gezondheidszorg op het menselijk welzijn. Ri was ook actief binnen de maatschappelijke vernieuwingsbeweging Wereldscholen\, die 50 jaar geleden werd opgericht. Hij zal ook terugkijken op het belang en de rol van deze organisatie.
URL:https://www.socialekalender.be/evenement/ri-de-ridder-over-gezondheidszorg/
LOCATION:Huis Jef en Jeanne Ulburghs\, Sint-Annastraat 7\, Zolder\, 3550\, België
ATTACH;FMTTYPE=image/jpeg:https://www.socialekalender.be/wp-content/uploads/2020/01/125987.jpg
END:VEVENT
BEGIN:VEVENT
DTSTART;TZID=Europe/Brussels:20200215T190000
DTEND;TZID=Europe/Brussels:20200215T213000
DTSTAMP:20260425T162244
CREATED:20200206T140804Z
LAST-MODIFIED:20200206T140804Z
UID:3950-1581793200-1581802200@www.socialekalender.be
SUMMARY:Muzikale meditatie met Rumi
DESCRIPTION:Rumi werd in 1207 in Balch (Perzië\, nu Afghanistan) geboren\, bracht een groot deel van zijn leven door in Konya (nu Turkije) en stierf daar ook in 1273. Hij is een van de belangrijkste personen uit de Perzische dichtkunst en erg invloedrijk voor de latere soefi-mystiek. Hij is ook bekend onder de naam Mevlana (“onze meester”).\nRumi was een leerling van de derwisj Sjems Tebrizi\, en stichtte in Konya de Mevlevi (dansende derwisjen). Hij staat bekend om zijn interreligieuze houding en pleidooien voor verdraagzaamheid.\nDe islamleraar Bahattin Koçak stelt deze belangrijke figuur aan ons voor en plukt enkele fragmenten uit zijn werk. Tussendoor luisteren we naar meditatieve muziek van Jef Houbrechts (klankschalen) en Koen Fossey (elektronische klanken + shamanic drums). Ook Ismael Erdogdu zal optreden met zijn saz-gezelschap.
URL:https://www.socialekalender.be/evenement/muzikale-meditatie-met-rumi/
LOCATION:kerk van Oud-Waterschei\, André Dumontlaan 218\, Genk\, 3600
ATTACH;FMTTYPE=image/jpeg:https://www.socialekalender.be/wp-content/uploads/2020/02/Rumi-soefi-mysticus-en-dichter-Roemi.jpeg
END:VEVENT
BEGIN:VEVENT
DTSTART;TZID=Europe/Brussels:20200215T201500
DTEND;TZID=Europe/Brussels:20200215T220000
DTSTAMP:20260425T162244
CREATED:20200127T094516Z
LAST-MODIFIED:20200127T094815Z
UID:3907-1581797700-1581804000@www.socialekalender.be
SUMMARY:De noordpool en de klimaatopwarming
DESCRIPTION:Uitgestrekte natuurbranden in het hoge noorden\, een Arctische zee met een extreem lage hoeveelheid zee-ijs\, temperaturen tot 32°C in Alaska\, een ‘hittegolf’ in Groenland en blikseminslagen rond de noordpool. Ook 2019 was een jaar van extremen in het noordpoolgebied. Eerder dit jaar verscheen een allesomvattend rapport waarin de toestand in het noordpoolgebied beschreven werd. Hieruit bleek dat het gebied zich beweegt naar een nog ongekende staat\, waarin veranderingen in de verschillende systemen elkaar beïnvloeden én soms versterken. In deze presentatie geeft Bert Wouters (Universiteit Utrecht en TU Delft) een overzicht van de ontwikkelingen in het noordpoolgebied sinds 1971 tot en met de recentste gebeurtenissen in 2019.
URL:https://www.socialekalender.be/evenement/de-noordpool-en-de-klimaatopwarming/
LOCATION:Schouwburg Stadhuis Genk\, Stadsplein 1\, Genk\, 3600\, België
ATTACH;FMTTYPE=image/jpeg:https://www.socialekalender.be/wp-content/uploads/2020/01/1001004008566895.jpg
END:VEVENT
END:VCALENDAR