BEGIN:VCALENDAR
VERSION:2.0
PRODID:-//Sociale Kalender - ECPv6.2.9//NONSGML v1.0//EN
CALSCALE:GREGORIAN
METHOD:PUBLISH
X-WR-CALNAME:Sociale Kalender
X-ORIGINAL-URL:https://www.socialekalender.be
X-WR-CALDESC:Evenementen voor Sociale Kalender
REFRESH-INTERVAL;VALUE=DURATION:PT1H
X-Robots-Tag:noindex
X-PUBLISHED-TTL:PT1H
BEGIN:VTIMEZONE
TZID:Europe/Paris
BEGIN:DAYLIGHT
TZOFFSETFROM:+0100
TZOFFSETTO:+0200
TZNAME:CEST
DTSTART:20200329T010000
END:DAYLIGHT
BEGIN:STANDARD
TZOFFSETFROM:+0200
TZOFFSETTO:+0100
TZNAME:CET
DTSTART:20201025T010000
END:STANDARD
END:VTIMEZONE
BEGIN:VEVENT
DTSTART;TZID=Europe/Paris:20200216T140000
DTEND;TZID=Europe/Paris:20200216T170000
DTSTAMP:20260425T162228
CREATED:20191208T100141Z
LAST-MODIFIED:20191208T100141Z
UID:3700-1581861600-1581872400@www.socialekalender.be
SUMMARY:Wandelen doorheen het mijnverleden
DESCRIPTION:Genk en omgeving dragen nog heel wat sporen mee van het mijnverleden. En wie goed kijkt\, kan die sporen overal ontdekken. Zeker als je met natuurgids Claudio Cavaliere op pad gaat. Stap mee in zijn teletijdmachine en word wakker in de tijd van de steenkoolmijnen.
URL:https://www.socialekalender.be/evenement/wandelen-doorheen-het-mijnverleden/
LOCATION:vertrek aan de kerk van Zwartberg\, Torenlaan\, Genk\, 3600
ATTACH;FMTTYPE=image/jpeg:https://www.socialekalender.be/wp-content/uploads/2019/12/mijunschacht-Waterschei.jpg
ORGANIZER;CN="Limburgs Landschap vzw":MAILTO:info@limburgs-landschap.be
END:VEVENT
END:VCALENDAR