BEGIN:VCALENDAR
VERSION:2.0
PRODID:-//Sociale Kalender - ECPv6.2.9//NONSGML v1.0//EN
CALSCALE:GREGORIAN
METHOD:PUBLISH
X-WR-CALNAME:Sociale Kalender
X-ORIGINAL-URL:https://www.socialekalender.be
X-WR-CALDESC:Evenementen voor Sociale Kalender
REFRESH-INTERVAL;VALUE=DURATION:PT1H
X-Robots-Tag:noindex
X-PUBLISHED-TTL:PT1H
BEGIN:VTIMEZONE
TZID:Europe/Brussels
BEGIN:DAYLIGHT
TZOFFSETFROM:+0100
TZOFFSETTO:+0200
TZNAME:CEST
DTSTART:20200329T010000
END:DAYLIGHT
BEGIN:STANDARD
TZOFFSETFROM:+0200
TZOFFSETTO:+0100
TZNAME:CET
DTSTART:20201025T010000
END:STANDARD
END:VTIMEZONE
BEGIN:VEVENT
DTSTART;TZID=Europe/Brussels:20200218T190000
DTEND;TZID=Europe/Brussels:20200218T201500
DTSTAMP:20260425T162228
CREATED:20200206T141837Z
LAST-MODIFIED:20200206T141837Z
UID:3954-1582052400-1582056900@www.socialekalender.be
SUMMARY:Stille wake voor klimaat
DESCRIPTION:Op dinsdag 18 februari vragen meer dan 15 organisaties aan stad Hasselt om de klimaatnoodtoestand uit te roepen. Zij doen dit aan de hand van een stille wake op het plein tussen ’t Scheep en de Oude Kazerne\, vlak voor het begin van de gemeenteraad. Aan de deelnemers wordt gevraagd om hun eis of motivatie op een groot kartonnen of eventueel papieren blad te schrijven en dit te tonen aan de raadsleden en de pers. De klimaatnoodtoestand werd al erkend door 1.300 lokale overheden wereldwijd.
URL:https://www.socialekalender.be/evenement/stille-wake-voor-klimaat/
LOCATION:’t Scheep\, Limburgplein\, Hasselt\, Limburg\, 3500\, België
ATTACH;FMTTYPE=image/jpeg:https://www.socialekalender.be/wp-content/uploads/2020/02/t-Scheep.jpg
END:VEVENT
BEGIN:VEVENT
DTSTART;TZID=Europe/Brussels:20200218T190000
DTEND;TZID=Europe/Brussels:20200218T213000
DTSTAMP:20260425T162228
CREATED:20191228T114404Z
LAST-MODIFIED:20191228T114404Z
UID:3793-1582052400-1582061400@www.socialekalender.be
SUMMARY:Duurzame consumptie op school
DESCRIPTION:Eerst laat Martine Mommen ons kennismaken met De Makelarij\, een vzw die onderdak biedt aan creatieve projecten met een duurzame productie en verkoop en die culturele initiatieven ontplooit. Ook De Kazerne behoort hiertoe\, een restaurant met een duurzaam en creatief aanbod. Dan geeft Myriam Philippens van Broederlijk Delen een inleiding over het thema duurzame consumptie op school. In het tweede deel verdelen de bezoekers zich over vijf thematafels: duurzame voeding op school\, deelinitiatieven op school\, zwerfvuil\, duurzame activiteiten en een duurzaam aankoopbeleid op school. Iedereen is welkom: mensen uit het onderwijs\, ouders en alle andere geïnteresseerden.
URL:https://www.socialekalender.be/evenement/duurzame-consumptie-op-school/
LOCATION:De Kazerne\, Blaarstraat 99\, Tongeren\, Limburg\, 3700\, België
ATTACH;FMTTYPE=image/jpeg:https://www.socialekalender.be/wp-content/uploads/2019/12/makelarij.jpg
ORGANIZER;CN="Provinciaal Natuurcentrum en Bosgroep Limburg":MAILTO:pnc@limburg.be
END:VEVENT
END:VCALENDAR