BEGIN:VCALENDAR
VERSION:2.0
PRODID:-//Sociale Kalender - ECPv6.2.9//NONSGML v1.0//EN
CALSCALE:GREGORIAN
METHOD:PUBLISH
X-WR-CALNAME:Sociale Kalender
X-ORIGINAL-URL:https://www.socialekalender.be
X-WR-CALDESC:Evenementen voor Sociale Kalender
REFRESH-INTERVAL;VALUE=DURATION:PT1H
X-Robots-Tag:noindex
X-PUBLISHED-TTL:PT1H
BEGIN:VTIMEZONE
TZID:Europe/Paris
BEGIN:DAYLIGHT
TZOFFSETFROM:+0100
TZOFFSETTO:+0200
TZNAME:CEST
DTSTART:20200329T010000
END:DAYLIGHT
BEGIN:STANDARD
TZOFFSETFROM:+0200
TZOFFSETTO:+0100
TZNAME:CET
DTSTART:20201025T010000
END:STANDARD
TZID:Europe/Brussels
BEGIN:DAYLIGHT
TZOFFSETFROM:+0100
TZOFFSETTO:+0200
TZNAME:CEST
DTSTART:20200329T010000
END:DAYLIGHT
BEGIN:STANDARD
TZOFFSETFROM:+0200
TZOFFSETTO:+0100
TZNAME:CET
DTSTART:20201025T010000
END:STANDARD
END:VTIMEZONE
BEGIN:VEVENT
DTSTART;TZID=Europe/Paris:20200306T190000
DTEND;TZID=Europe/Paris:20200306T220000
DTSTAMP:20260425T124847
CREATED:20191201T194551Z
LAST-MODIFIED:20191201T194551Z
UID:3687-1583521200-1583532000@www.socialekalender.be
SUMMARY:Wereldgebedsdag
DESCRIPTION:Op de eerste vrijdag van maart vindt in 170 landen de Wereldgebedsdag plaats. In Hasselt nemen we voor de negende keer deel\, maar het gebeuren heeft oude wortels die teruggaan tot het jaar 1887. Toen namen in Amerika christelijke vrouwen het initiatief voor een oecumene gebedsdag in het teken van verzoening. Sindsdien groeide dit uit tot een internationaal en interreligieus gebeuren dat benadrukt dat gebed en sociale actie samengaan. \nIn Hasselt zijn het de mensen van de Baha’igemeenschap en de Stedelijke Dienst Gelijke Kansen die de kar trekken\, samen met de Universiteit voor het Maatschappelijk Belang. Zij nodigen mensen uit verschillende levensbeschouwingen uit om in een kring te gaan zitten en om beurten een tekst te lezen. Hoe verschillend de voorgeschiedenis van de deelnemende gemeenschappen en mensen ook kan zijn\, toch zal de overeenstemmende toon en de samenklank dadelijk opvallen. Het thema van deze editie is: van vreemd naar vriend. Een boeddhist en een hindoe\, een katholieke vrouw en een protestantse dominee\, een vrijzinnige en een moslim\, een baha’i en een sikh\, en nog verschillende anderen\, allen zullen ze hierrond een korte tekst voorlezen\, met een kort moment van stilte tussenin. Twee leden van de baha’igemeenschap uit Brussel zullen liederen brengen in verschillende talen\, en ook Indiase dans ten tonele brengen. Achteraf is er tijd voor een gezellig samenzijn met drankjes en hapjes van de deelnemende groepen. Onthaal en kennismaking vanaf 19u\, de meditatie begint stipt om 19.30u. Iedereen welkom.
URL:https://www.socialekalender.be/evenement/wereldgebedsdag-3/
LOCATION:Cultuurcentrum (zaal 3)\, Kunstlaan 5\, Hasselt\, 3500\, België
ATTACH;FMTTYPE=image/jpeg:https://www.socialekalender.be/wp-content/uploads/2019/12/Wereldgebedsdag17-1-scaled.jpg
END:VEVENT
BEGIN:VEVENT
DTSTART;TZID=Europe/Brussels:20200306T190000
DTEND;TZID=Europe/Brussels:20200306T220000
DTSTAMP:20260425T124847
CREATED:20200119T132837Z
LAST-MODIFIED:20200119T132837Z
UID:3882-1583521200-1583532000@www.socialekalender.be
SUMMARY:150 jaar sociale strijd in lied en beeld 
DESCRIPTION:Wij nemen u mee in de sociale geschiedenis met een tentoonsteling van oude affiches en werk van hedendaagse kunstenaars. Programma op vrijdag vanaf 19u: opening tentoonstelling\, strijdliederen zingen met Wim Cassiers en optreden van koor Kantikune. Op zaterdag vanaf 19u: vertel- en zangtheater met Vuile Mong en optreden Citékoor. Op zondag: tentoonstelling gratis te bezoeken vanaf 14u.
URL:https://www.socialekalender.be/evenement/150-jaar-sociale-strijd-in-lied-en-beeld/
LOCATION:Casino Modern\, André Dumontlaan 2\, Waterschei-Genk\, 3600
ATTACH;FMTTYPE=image/jpeg:https://www.socialekalender.be/wp-content/uploads/2020/01/affiche-sociale-strijd.jpg
END:VEVENT
END:VCALENDAR