BEGIN:VCALENDAR
VERSION:2.0
PRODID:-//Sociale Kalender - ECPv6.2.9//NONSGML v1.0//EN
CALSCALE:GREGORIAN
METHOD:PUBLISH
X-ORIGINAL-URL:https://www.socialekalender.be
X-WR-CALDESC:Evenementen voor Sociale Kalender
REFRESH-INTERVAL;VALUE=DURATION:PT1H
X-Robots-Tag:noindex
X-PUBLISHED-TTL:PT1H
BEGIN:VTIMEZONE
TZID:Europe/Brussels
BEGIN:DAYLIGHT
TZOFFSETFROM:+0100
TZOFFSETTO:+0200
TZNAME:CEST
DTSTART:20200329T010000
END:DAYLIGHT
BEGIN:STANDARD
TZOFFSETFROM:+0200
TZOFFSETTO:+0100
TZNAME:CET
DTSTART:20201025T010000
END:STANDARD
END:VTIMEZONE
BEGIN:VEVENT
DTSTART;TZID=Europe/Brussels:20200318T120000
DTEND;TZID=Europe/Brussels:20200318T140000
DTSTAMP:20260425T124842
CREATED:20200306T134334Z
LAST-MODIFIED:20200317T095234Z
UID:4010-1584532800-1584540000@www.socialekalender.be
SUMMARY:De Multiculturele Tafel gaat Bulgaars (Geannuleerd)
DESCRIPTION:De Actieve Internationale Federatie\, een multiculturele koepelorganisatie\, organiseert elke maand (behalve in de zomervakantie) een middagmaal met gerechten uit gekende en minder gekende culturen. In maart staat er een Bulgaars menu op de kaart: Bulgaarse kloostersoep\, Bulgaarse moussaka\, dessert en koffie. Natuurlijk is deze gezamenlijke maaltijd ook een dankbaar moment voor contact en uitwisseling met mensen uit de sociale sector.
URL:https://www.socialekalender.be/evenement/de-multiculturele-tafel-gaat-bulgaars/
LOCATION:Zaal Papa Cervi\, Vennestraat 98\, Genk\, 3600\, België
ATTACH;FMTTYPE=image/jpeg:https://www.socialekalender.be/wp-content/uploads/2020/03/moussaka.jpg
ORGANIZER;CN="de lidorganisaties van AIF+":MAILTO:multicultureletafel@vzwaif.be
END:VEVENT
END:VCALENDAR