BEGIN:VCALENDAR
VERSION:2.0
PRODID:-//Sociale Kalender - ECPv6.2.9//NONSGML v1.0//EN
CALSCALE:GREGORIAN
METHOD:PUBLISH
X-WR-CALNAME:Sociale Kalender
X-ORIGINAL-URL:https://www.socialekalender.be
X-WR-CALDESC:Evenementen voor Sociale Kalender
REFRESH-INTERVAL;VALUE=DURATION:PT1H
X-Robots-Tag:noindex
X-PUBLISHED-TTL:PT1H
BEGIN:VTIMEZONE
TZID:Europe/Brussels
BEGIN:DAYLIGHT
TZOFFSETFROM:+0100
TZOFFSETTO:+0200
TZNAME:CEST
DTSTART:20200329T010000
END:DAYLIGHT
BEGIN:STANDARD
TZOFFSETFROM:+0200
TZOFFSETTO:+0100
TZNAME:CET
DTSTART:20201025T010000
END:STANDARD
END:VTIMEZONE
BEGIN:VEVENT
DTSTART;TZID=Europe/Brussels:20200324T093000
DTEND;TZID=Europe/Brussels:20200324T160000
DTSTAMP:20260425T124846
CREATED:20200227T075433Z
LAST-MODIFIED:20200227T075433Z
UID:3998-1585042200-1585065600@www.socialekalender.be
SUMMARY:Stiltedag
DESCRIPTION:Onder begeleiding van Willy Gielen gaan we een tekst doornemen\, samen mediteren\, een korte stiltewandeling houden en de ervaringen met elkaar delen. Ook de maaltijd wordt in stilte genuttigd. Voorts blijft er heel wat tijd over om zelf in te vullen. Gelieve mee te brengen: wat eten voor een gezamenlijke picknick\, leesmateriaal en gemakkelijke schoenen om te wandelen. Een seintje op voorhand is gemakkelijk.
URL:https://www.socialekalender.be/evenement/stiltedag-21/
LOCATION:Huis Ulburghs\, Sint-Annastraat 7\, Zolder\, 3550\, België
ATTACH;FMTTYPE=image/jpeg:https://www.socialekalender.be/wp-content/uploads/2019/12/Ulburghshuis.jpg
ORGANIZER;CN="Willy Gielen":MAILTO:g.wim@gmail.com
END:VEVENT
BEGIN:VEVENT
DTSTART;TZID=Europe/Brussels:20200324T160000
DTEND;TZID=Europe/Brussels:20200324T193000
DTSTAMP:20260425T124846
CREATED:20200201T152014Z
LAST-MODIFIED:20200201T152014Z
UID:3935-1585065600-1585078200@www.socialekalender.be
SUMMARY:Salon van de vrijwilliger
DESCRIPTION:Het departement Social Work van Hogeschool PXL is ondertussen al toe aan de vijfde editie van het Salon van de vrijwilliger. Het doel van die dag is om organisaties te helpen hun werking voor te stellen\, nieuwe vrijwilligers aan te spreken en te laten netwerken met andere vrijwilligersorganisaties. We proberen die dag m.a.w. dé ontmoetingsplaats te zijn voor welzijnsorganisaties én het vrijwilligerswerk in de picture te zetten. Dit doen we door kosteloos onze accommodatie ter beschikking te stellen en samen met een groep 2de jaars studenten in te zetten op voldoende publiciteit. Dit jaar zullen er ruim 70 standhouders zijn. Omstreeks 19u wordt er een prijs uitgereikt van “Limburgse vrijwilligersorganisatie van het jaar”.
URL:https://www.socialekalender.be/evenement/salon-van-de-vrijwilliger-2/
LOCATION:Hogeschool PXL\, PXL-Congress (gebouw D)\, Elfde-Liniestraat 23a\, Hasselt\, 3500
ATTACH;FMTTYPE=image/jpeg:https://www.socialekalender.be/wp-content/uploads/2020/02/salon-vrijwilliger-2020.jpg
ORGANIZER;CN="Hogeschool PXL%2C departement Social Work":MAILTO:miet.swinnen@pxl.be
END:VEVENT
END:VCALENDAR