BEGIN:VCALENDAR
VERSION:2.0
PRODID:-//Sociale Kalender - ECPv6.2.9//NONSGML v1.0//EN
CALSCALE:GREGORIAN
METHOD:PUBLISH
X-WR-CALNAME:Sociale Kalender
X-ORIGINAL-URL:https://www.socialekalender.be
X-WR-CALDESC:Evenementen voor Sociale Kalender
REFRESH-INTERVAL;VALUE=DURATION:PT1H
X-Robots-Tag:noindex
X-PUBLISHED-TTL:PT1H
BEGIN:VTIMEZONE
TZID:Europe/Brussels
BEGIN:DAYLIGHT
TZOFFSETFROM:+0100
TZOFFSETTO:+0200
TZNAME:CEST
DTSTART:20200329T010000
END:DAYLIGHT
BEGIN:STANDARD
TZOFFSETFROM:+0200
TZOFFSETTO:+0100
TZNAME:CET
DTSTART:20201025T010000
END:STANDARD
END:VTIMEZONE
BEGIN:VEVENT
DTSTART;TZID=Europe/Brussels:20200328T094500
DTEND;TZID=Europe/Brussels:20200328T120000
DTSTAMP:20260425T124847
CREATED:20200217T150034Z
LAST-MODIFIED:20200217T150034Z
UID:3994-1585388700-1585396800@www.socialekalender.be
SUMMARY:Boekvoorstelling met Jonas Slaats
DESCRIPTION:Jonas Slaats is filosoof\, antropoloog en theoloog\, bewoner van de Kluis van Bolderberg\, medewerker bij Kifkif\, auteur en sociale activist op de snijlijn van mystiek en maatschappijkritiek: zie www.jonasslaats.be.  Onlangs verscheen van hem het boek “Religie herzien -voorbij het wij-zijdenken van seculier en religieus”. Hierin bespreekt hij zeven belangrijke misvattingen over religie en toont hij aan hoe dit het goed samenleven bemoeilijkt. Een verrassende boodschap dat het religieuze en seculiere uiteindelijk weinig van elkaar verschillen!. Wie aansluitend nog een broodje wil eten brengt iets mee\, of Jac haalt het bij ComPani mits uw bestelling.
URL:https://www.socialekalender.be/evenement/boekvoorstelling-met-jonas-slaats/
LOCATION:Huis Ulburghs\, Sint-Annastraat 7\, Zolder\, 3550\, België
ATTACH;FMTTYPE=image/jpeg:https://www.socialekalender.be/wp-content/uploads/2018/04/Jonas-Slaats2-300x300.jpg
END:VEVENT
BEGIN:VEVENT
DTSTART;TZID=Europe/Brussels:20200328T140000
DTEND;TZID=Europe/Brussels:20200328T150000
DTSTAMP:20260425T124847
CREATED:20200109T111323Z
LAST-MODIFIED:20200109T112323Z
UID:3851-1585404000-1585407600@www.socialekalender.be
SUMMARY:Wandelmeditatie
DESCRIPTION:Eén keer per maand organiseert Tibetaans Boeddhisme Limburg (TBL) een wandelmeditatie. Die beoogt de ontwikkeling van een kalme en aandachtige geest\, en de integratie ervan in het dagelijkse leven. Ze verloopt over gemakkelijke paden aan de rand van Maastricht\, en vereist geen speciale ervaring of schoenen. Eerst wordt de methode uitgelegd\, daarna vindt er een wandeling van 3 kwartier plaats.
URL:https://www.socialekalender.be/evenement/wandelmeditatie/
LOCATION:TBL\, Pastoor Moormanstraat 96\, Maastricht\, Limburg\, 6219 AX\, Nederland
ATTACH;FMTTYPE=image/jpeg:https://www.socialekalender.be/wp-content/uploads/2020/01/Wandelmeditatie.jpg
ORGANIZER;CN="Stichting Tibetaans Boeddhisme Limburg":MAILTO:info@tibetaans-boeddhisme.eu
END:VEVENT
END:VCALENDAR