BEGIN:VCALENDAR
VERSION:2.0
PRODID:-//Sociale Kalender - ECPv6.2.9//NONSGML v1.0//EN
CALSCALE:GREGORIAN
METHOD:PUBLISH
X-ORIGINAL-URL:https://www.socialekalender.be
X-WR-CALDESC:Evenementen voor Sociale Kalender
REFRESH-INTERVAL;VALUE=DURATION:PT1H
X-Robots-Tag:noindex
X-PUBLISHED-TTL:PT1H
BEGIN:VTIMEZONE
TZID:Europe/Brussels
BEGIN:DAYLIGHT
TZOFFSETFROM:+0100
TZOFFSETTO:+0200
TZNAME:CEST
DTSTART:20200329T010000
END:DAYLIGHT
BEGIN:STANDARD
TZOFFSETFROM:+0200
TZOFFSETTO:+0100
TZNAME:CET
DTSTART:20201025T010000
END:STANDARD
END:VTIMEZONE
BEGIN:VEVENT
DTSTART;TZID=Europe/Brussels:20200607T120000
DTEND;TZID=Europe/Brussels:20200607T180000
DTSTAMP:20260424T175523
CREATED:20191228T115807Z
LAST-MODIFIED:20200514T130524Z
UID:3803-1591531200-1591552800@www.socialekalender.be
SUMMARY:Culinair wereldfestival Amuse GEANNULEERD
DESCRIPTION:Parkfestival in het teken van de fair trade. Zoals de vorige jaren komt de lokale eerlijke handel aan bod met allerlei producten van de korte keten\, vaak vegetarisch en/of biologisch. Daarnaast zijn er een twintigtal vierdepijlerprojecten aanwezig\, die vaak een versnapering uit hun streek in het Zuiden aanbieden. De Oxfam Wereldwinkel staat er met een grote toog en verkoopstand. Een greep uit het overige aanbod: showcooking\, kinderanimatie\, muziekoptredens\, verkoop- en infostands\, en hapjes in vele soorten.
URL:https://www.socialekalender.be/evenement/culinair-wereldfestival-amuse/
LOCATION:Stedelijk Domein Kiewit\, Putvennestraat 108\, Kiewit - Hasselt\, 3500\, België
ATTACH;FMTTYPE=image/jpeg:https://www.socialekalender.be/wp-content/uploads/2019/12/amuse-scaled.jpg
END:VEVENT
END:VCALENDAR