BEGIN:VCALENDAR
VERSION:2.0
PRODID:-//Sociale Kalender - ECPv6.2.9//NONSGML v1.0//EN
CALSCALE:GREGORIAN
METHOD:PUBLISH
X-ORIGINAL-URL:https://www.socialekalender.be
X-WR-CALDESC:Evenementen voor Sociale Kalender
REFRESH-INTERVAL;VALUE=DURATION:PT1H
X-Robots-Tag:noindex
X-PUBLISHED-TTL:PT1H
BEGIN:VTIMEZONE
TZID:Europe/Brussels
BEGIN:DAYLIGHT
TZOFFSETFROM:+0100
TZOFFSETTO:+0200
TZNAME:CEST
DTSTART:20200329T010000
END:DAYLIGHT
BEGIN:STANDARD
TZOFFSETFROM:+0200
TZOFFSETTO:+0100
TZNAME:CET
DTSTART:20201025T010000
END:STANDARD
END:VTIMEZONE
BEGIN:VEVENT
DTSTART;TZID=Europe/Brussels:20200618T200000
DTEND;TZID=Europe/Brussels:20200618T220000
DTSTAMP:20260424T175522
CREATED:20200328T160741Z
LAST-MODIFIED:20200509T081445Z
UID:4068-1592510400-1592517600@www.socialekalender.be
SUMMARY:Tot in den draai (docu)  GEANNULEERD
DESCRIPTION:In de documentaire ‘Tot in den draai’ vertellen zes palliatieve patiënten hun aangrijpend verhaal. Wat houdt hen het meest bezig en hoe geven zij betekenis aan deze beslissende fase? Na het bekijken van de docu (40’) gaan we in gesprek over levens- en zinvragen. Dat is immers op elk moment in je leven zinvol. De docu doet je stilstaan bij de eindigheid van het leven en nodigt je uit dit bewuster te omarmen. Achteraf is er een nabespreking onder begeleiding van Irene Henderickx. ‘Tot in den draai’ is een documentaire van Beweging van Wakkere Geesten en Docwerkers i.s.m. Federatie Palliatieve Zorg Vlaanderen en Perennis – Centrum voor Groei in Leven en Sterven. Met steun van Kom op tegen Kanker.
URL:https://www.socialekalender.be/evenement/tot-in-den-draai-docu/
LOCATION:LDC Den Dries\, Dorpsstraat 20a\, Wellen\, Limburg\, 3830\, België
ATTACH;FMTTYPE=image/jpeg:https://www.socialekalender.be/wp-content/uploads/2020/03/tot-in-den-draai.jpg
END:VEVENT
END:VCALENDAR