BEGIN:VCALENDAR
VERSION:2.0
PRODID:-//Sociale Kalender - ECPv6.2.9//NONSGML v1.0//EN
CALSCALE:GREGORIAN
METHOD:PUBLISH
X-WR-CALNAME:Sociale Kalender
X-ORIGINAL-URL:https://www.socialekalender.be
X-WR-CALDESC:Evenementen voor Sociale Kalender
REFRESH-INTERVAL;VALUE=DURATION:PT1H
X-Robots-Tag:noindex
X-PUBLISHED-TTL:PT1H
BEGIN:VTIMEZONE
TZID:Europe/Brussels
BEGIN:DAYLIGHT
TZOFFSETFROM:+0100
TZOFFSETTO:+0200
TZNAME:CEST
DTSTART:20200329T010000
END:DAYLIGHT
BEGIN:STANDARD
TZOFFSETFROM:+0200
TZOFFSETTO:+0100
TZNAME:CET
DTSTART:20201025T010000
END:STANDARD
END:VTIMEZONE
BEGIN:VEVENT
DTSTART;TZID=Europe/Brussels:20200711T080000
DTEND;TZID=Europe/Brussels:20200711T130000
DTSTAMP:20260424T162213
CREATED:20200623T183653Z
LAST-MODIFIED:20200623T183653Z
UID:4180-1594454400-1594472400@www.socialekalender.be
SUMMARY:Biomarkt
DESCRIPTION:Limburg is erg rijk aan basisinitiatieven met een ecologisch en/of sociaal profiel. Hierdoor is er een sterk netwerk gegroeid van mensen en groepen die bewust\, duurzaam en solidair door het leven willen gaan. Tot ons groot geluk kunnen de werkingen stilaan weer recht veren na de versoepeling van de coronamaatregelen. Op zaterdag 23 mei was het zover voor de wekelijkse biomarkt in Winterslag. Sinds die dag kan de Vennestraat weer elke zaterdagochtend ontwaken met een levendige markt. Enkele meters verder\, ter hoogte van de Hoefstadstraat 21\, openen dan ook de kramen van de biomarkt. Het is een initiatief van vzw Rosendal Marked\, een project naar Deense inspiratie van Gilberte Claes. De bioboerderij Het Vrije Veld van Souliman Diraa verleende er dadelijk haar medewerking aan. Drie verkooppunten zorgen voor een gevarieerd aanbod. Binnen staat Gilberte achter de toog en biedt ze een assortiment van ter plaatse gebakken broden\, taarten en gebak aan. Robin Geurts is er de bakker van dienst. Daarnaast verkoopt Gilberte nog sappen en ook kazen vanuit de korte keten (Karditsel\, Catharinadal). Buiten brengt Souliman groenten en fruit aan de man\, deels van eigen teelt\, deels van andere Limburgse bioboeren\, aangevuld met enkele producten uit de biologische groothandel. Even verderop staat Bram Kriekels van Mycotopia (Diepenbeek) met verschillende soorten zelfgeteelde paddenstoelen. De biomarkt zal het jaar rond present zijn\, ook in juli en augustus.
URL:https://www.socialekalender.be/evenement/biomarkt-4/
LOCATION:Hoefstadstraat\, Hoefstadstraat\, Winterslag-Genk\, Limburg\, 3600\, België
ATTACH;FMTTYPE=image/jpeg:https://www.socialekalender.be/wp-content/uploads/2020/06/Souliman-biomarkt2-scaled.jpg
END:VEVENT
BEGIN:VEVENT
DTSTART;TZID=Europe/Brussels:20200711T133000
DTEND;TZID=Europe/Brussels:20200711T163000
DTSTAMP:20260424T162213
CREATED:20200401T154711Z
LAST-MODIFIED:20200401T154711Z
UID:4103-1594474200-1594485000@www.socialekalender.be
SUMMARY:Waterwandeling in Vochtig Haspengouw
DESCRIPTION:Water is altijd op weg en wij leven er continu mee samen. Wat betekent dat concreet? Gedurende een tocht van drie uur maak je kennis met stromend en stilstaand water in VochtigHaspengouw. We evalueren zelf de biologische waterkwaliteit van een lokale vijver. Je ontdekt de vele uitdagingen op vlak van zoetwater in de wereld. En je Waterwandeling in Vochtig HaspengouwWaterwandeling in Vochtig Haspengouw meer over het begrip ‘integraal waterbeheer’. Davy Huygen van Natuurpunt begeleidt ons hierbij. Aangepast schoeisel\, bijvoorbeeld laarzen\, is aangewezen.  Korting mogelijk voor mensen met een krap budget. Mensen met een verhoogde tegemoetkoming betalen slechts € 2 (neem hiervoor contact op met Horizont vzw).
URL:https://www.socialekalender.be/evenement/waterwandeling-in-vochtig-haspengouw/
LOCATION:Kapel van Helshoven\, Helshovenweg 18\, Borgloon\, Limburg\, 3840\, België
ATTACH;FMTTYPE=image/jpeg:https://www.socialekalender.be/wp-content/uploads/2020/04/Kapel_Helshoven.jpg
END:VEVENT
END:VCALENDAR