BEGIN:VCALENDAR
VERSION:2.0
PRODID:-//Sociale Kalender - ECPv6.2.9//NONSGML v1.0//EN
CALSCALE:GREGORIAN
METHOD:PUBLISH
X-WR-CALNAME:Sociale Kalender
X-ORIGINAL-URL:https://www.socialekalender.be
X-WR-CALDESC:Evenementen voor Sociale Kalender
REFRESH-INTERVAL;VALUE=DURATION:PT1H
X-Robots-Tag:noindex
X-PUBLISHED-TTL:PT1H
BEGIN:VTIMEZONE
TZID:Europe/Brussels
BEGIN:DAYLIGHT
TZOFFSETFROM:+0100
TZOFFSETTO:+0200
TZNAME:CEST
DTSTART:20200329T010000
END:DAYLIGHT
BEGIN:STANDARD
TZOFFSETFROM:+0200
TZOFFSETTO:+0100
TZNAME:CET
DTSTART:20201025T010000
END:STANDARD
END:VTIMEZONE
BEGIN:VEVENT
DTSTART;TZID=Europe/Brussels:20200726T123000
DTEND;TZID=Europe/Brussels:20200726T123000
DTSTAMP:20260424T162213
CREATED:20200712T070256Z
LAST-MODIFIED:20200712T070256Z
UID:4642-1595766600-1595766600@www.socialekalender.be
SUMMARY:Rondleiding door voedselbos en permatuin
DESCRIPTION:Een voedselbos is een zorgvuldig ontworpen ecosysteem van nuttige planten (en soms ook dieren). In plaats van nette rijen van één soort plant (monocultuur)\, mengen voedselbossen een gevarieerd assortiment voedselproducerende (en andere) planten die elkaar voeden\, verschillende voedingsstoffen uit de bodem gebruiken en de beschikbare ruimte optimaal benutten. Dit bootst de structuur van een natuurlijk bos na – het meest stabiele en duurzame type ecosysteem in ons klimaat. Belangrijk is dat de bodem bijna altijd bedekt is – wat resulteert in een rijke ondergrondse biodiversiteit en een gezonde bodem rijk aan koolstof\, mineralen en andere voedingsstoffen. Voedselbossen kunnen variëren van een kleine huishoudelijke tuin tot zeer grote commerciële projecten (ook bekend als agro-forestry). Ons project is middelgroot (ongeveer 4 hectare). Het is 10 jaar geleden omgezet van een maïsveld en is nu volwassen en productief. De biologisch gecertificeerde producten worden verkocht aan abonnees en andere klanten. De site wordt ook gebruikt als demonstratiesite voor cursussen en rondleidingen. Iedere zondag om 12.30 is er een rondleiding. Kosten 5 euro p/p incl. een proevertje soep. U hoeft zich niet vooraf aan te melden. De rondleiding start op de parkeerplaats bij het kasteel. Een rondleiding op aanvraag voor een specifieke groep is ook mogelijk en kost tot 15 pers. 75 eur per uur.
URL:https://www.socialekalender.be/evenement/rondleiding-door-voedselbos-en-permatuin/
LOCATION:Kasteel Nieuwenhoven\, Engelbamp 55\, Sint-Truiden\, 3800
ATTACH;FMTTYPE=image/png:https://www.socialekalender.be/wp-content/uploads/2020/07/PDC-2020-2021-300x300-1.png
END:VEVENT
END:VCALENDAR