BEGIN:VCALENDAR
VERSION:2.0
PRODID:-//Sociale Kalender - ECPv6.2.9//NONSGML v1.0//EN
CALSCALE:GREGORIAN
METHOD:PUBLISH
X-WR-CALNAME:Sociale Kalender
X-ORIGINAL-URL:https://www.socialekalender.be
X-WR-CALDESC:Evenementen voor Sociale Kalender
REFRESH-INTERVAL;VALUE=DURATION:PT1H
X-Robots-Tag:noindex
X-PUBLISHED-TTL:PT1H
BEGIN:VTIMEZONE
TZID:Europe/Brussels
BEGIN:DAYLIGHT
TZOFFSETFROM:+0100
TZOFFSETTO:+0200
TZNAME:CEST
DTSTART:20200329T010000
END:DAYLIGHT
BEGIN:STANDARD
TZOFFSETFROM:+0200
TZOFFSETTO:+0100
TZNAME:CET
DTSTART:20201025T010000
END:STANDARD
END:VTIMEZONE
BEGIN:VEVENT
DTSTART;TZID=Europe/Brussels:20200817T110000
DTEND;TZID=Europe/Brussels:20200817T110000
DTSTAMP:20260424T101757
CREATED:20200710T091258Z
LAST-MODIFIED:20200710T091258Z
UID:4620-1597662000-1597662000@www.socialekalender.be
SUMMARY:Sociaal scoutskamp
DESCRIPTION:Open Kamp Limburg organiseert een scoutskamp voor maatschappelijk kwetsbare kinderen en jongeren\, deels uit de pleegzorg\, instellingen en asielcentra\, deels uit kansarme gezinnen. Het is dus een verhaal van diversiteit in een week vol spel\, plezier en vriendschap. Deze zomer vindt het kamp plaats in en rond de jeugdlokalen van scouts Boseind in Neerpelt\, van 17 tot 22 augustus. De kinderen en jongeren\, van 8 tot 17 jaar\, worden ingedeeld in leeftijdsgroepen. De kostprijs voor kinderen uit gezinnen bedraagt € 25 voor het eerste kind en € 20 vanaf het tweede -via de mutualiteit kan men daar nog een deel van terugkrijgen.
URL:https://www.socialekalender.be/evenement/sociaal-scoutskamp/
LOCATION:Roosendijk 109A\, Neerpelt(\, Limburg\, 3910\, België
ATTACH;FMTTYPE=image/jpeg:https://www.socialekalender.be/wp-content/uploads/2020/07/scouts-open-kamp-scaled.jpg
END:VEVENT
END:VCALENDAR