BEGIN:VCALENDAR
VERSION:2.0
PRODID:-//Sociale Kalender - ECPv6.2.9//NONSGML v1.0//EN
CALSCALE:GREGORIAN
METHOD:PUBLISH
X-WR-CALNAME:Sociale Kalender
X-ORIGINAL-URL:https://www.socialekalender.be
X-WR-CALDESC:Evenementen voor Sociale Kalender
REFRESH-INTERVAL;VALUE=DURATION:PT1H
X-Robots-Tag:noindex
X-PUBLISHED-TTL:PT1H
BEGIN:VTIMEZONE
TZID:Europe/Brussels
BEGIN:DAYLIGHT
TZOFFSETFROM:+0100
TZOFFSETTO:+0200
TZNAME:CEST
DTSTART:20200329T010000
END:DAYLIGHT
BEGIN:STANDARD
TZOFFSETFROM:+0200
TZOFFSETTO:+0100
TZNAME:CET
DTSTART:20201025T010000
END:STANDARD
END:VTIMEZONE
BEGIN:VEVENT
DTSTART;TZID=Europe/Brussels:20200822T090000
DTEND;TZID=Europe/Brussels:20200822T120000
DTSTAMP:20260424T101757
CREATED:20200306T153832Z
LAST-MODIFIED:20200306T153832Z
UID:4029-1598086800-1598097600@www.socialekalender.be
SUMMARY:Biotoopherstel in bronnenamfitheater
DESCRIPTION:Natuurpunt Zuidoost-Limburg organiseert beheerswerken in een bronnengebied bij de Keiberg in Riksingen. Voor wie mee de handen uit de mouwen wil steken: laarzen en werkhandschoenen zijn een noodzaak.
URL:https://www.socialekalender.be/evenement/biotoopherstel-in-bronnenamfitheater/
LOCATION:Kerk van Riksingen\, Sint Geertruistraat\, Tongeren\, Limburg\, België
ATTACH;FMTTYPE=image/jpeg:https://www.socialekalender.be/wp-content/uploads/2020/03/Keiberg.jpg
END:VEVENT
BEGIN:VEVENT
DTSTART;TZID=Europe/Brussels:20200822T210000
DTEND;TZID=Europe/Brussels:20200822T210000
DTSTAMP:20260424T101757
CREATED:20200127T135338Z
LAST-MODIFIED:20200815T141833Z
UID:3912-1598130000-1598130000@www.socialekalender.be
SUMMARY:Vleermuizenwandeling (GEANNULEERD)
DESCRIPTION:De Asserse afdeling van Natuurpunt schafte zich vorig jaar een batdetector aan. Met dit toestel kunnen we de ultrasone geluiden van vleermuizen verschuiven naar voor de mens hoorbare toonhoogtes\, en de soort determineren via het internet. Het werd op 29 juni 2019 uitgetest\, tijdens een wandeling aan de terril. In een half uur werden maar liefst zeven soorten vleermuizen gehoord. Op 17 augustus werden nog twee bijkomende soorten waargenomen aan de plas bij het natuurreservaat Heiderbos. As is dus uitzonderlijk rijk aan deze nachtdieren. Op 22 augustus gaan we verder op onderzoek\, in het gebied rond het Rouwmortelven.
URL:https://www.socialekalender.be/evenement/vleermuizenwandeling-2/
LOCATION:Station As\, Stationsstraat 124\, As\, 3665\, België
ATTACH;FMTTYPE=image/jpeg:https://www.socialekalender.be/wp-content/uploads/2020/01/downloadfile.jpg
END:VEVENT
END:VCALENDAR