BEGIN:VCALENDAR
VERSION:2.0
PRODID:-//Sociale Kalender - ECPv6.2.9//NONSGML v1.0//EN
CALSCALE:GREGORIAN
METHOD:PUBLISH
X-ORIGINAL-URL:https://www.socialekalender.be
X-WR-CALDESC:Evenementen voor Sociale Kalender
REFRESH-INTERVAL;VALUE=DURATION:PT1H
X-Robots-Tag:noindex
X-PUBLISHED-TTL:PT1H
BEGIN:VTIMEZONE
TZID:Europe/Brussels
BEGIN:DAYLIGHT
TZOFFSETFROM:+0100
TZOFFSETTO:+0200
TZNAME:CEST
DTSTART:20200329T010000
END:DAYLIGHT
BEGIN:STANDARD
TZOFFSETFROM:+0200
TZOFFSETTO:+0100
TZNAME:CET
DTSTART:20201025T010000
END:STANDARD
END:VTIMEZONE
BEGIN:VEVENT
DTSTART;TZID=Europe/Brussels:20200911T150000
DTEND;TZID=Europe/Brussels:20200911T150000
DTSTAMP:20260424T005859
CREATED:20200705T090339Z
LAST-MODIFIED:20200705T090339Z
UID:4258-1599836400-1599836400@www.socialekalender.be
SUMMARY:Plaatsing herdenkingspaneel voor Ostarbeiter in WO II
DESCRIPTION:Comité II is een organisatie actief in de herinneringseducatie rond de Tweede Wereldoorlog. Op 11 september herdenkt ze een vergeten hoofdstuk uit de turbulente Genkse oorlogsgeschiedenis. Tijdens WO II plukken de nazi’s jonge mannen in Polen\, Oekraïne en door de Sovjet-Unie bezette gebieden van de straat en voeren hen als slaven naar Duitsland. Vanaf 1942 arriveren 1215 van deze arme donders in Waterschei met de bedoeling de oorlogsproductie van steenkool te verhogen. In een streng gecontroleerd kamp zullen deze dwangarbeiders tot aan de bevrijding van Genk in 1944 een weinig benijdenswaardig bestaan leiden. Het Genkse Comité belicht in een brochure de geschiedenis van het kamp aan de Wildekerslaan in Waterschei. Als herinnering aan de tragische Oost-Europese aanwezigheid van gekneusde mannen en met een bijzondere aandacht voor de verzetslieden die in Waterschei hulp boden bij de ontsnapping van opgesloten Oostarbeiders onthult schepen Anniek Nagels tijdens een beperkte ceremonie een herdenkingspaneel. Wij heten u graag welkom bij de afsluiting van een geschiedenis waarbij herdenkingspanelen te Zwartberg\, Winterslag en op de begraafplaats van Genk Centrum nu een eindinvulling krijgen in Waterschei. En dit in het kader van “Iedereen bevrijdt Genk”.
URL:https://www.socialekalender.be/evenement/plaatsing-herdenkingspaneel-voor-ostarbeiter-in-wo-ii/
LOCATION:Wildekerslaan 22\, Waterschei-Genk\, Limburg\, 3600\, België
ATTACH;FMTTYPE=image/png:https://www.socialekalender.be/wp-content/uploads/2017/04/tumblr_lztuplTMSk1qzgt9no1_500_large.png
END:VEVENT
BEGIN:VEVENT
DTSTART;TZID=Europe/Brussels:20200911T190000
DTEND;TZID=Europe/Brussels:20200911T190000
DTSTAMP:20260424T005859
CREATED:20200821T060104Z
LAST-MODIFIED:20200821T060104Z
UID:4727-1599850800-1599850800@www.socialekalender.be
SUMMARY:Verkenningswandeling ecotunnel
DESCRIPTION:In Diepenbeek leven heel wat dier- en plantensoorten. Om deze soorten meer overlevingskansen te geven\, werkt de gemeente in samenwerking met Natuurpunt Diepenbeek en het Regionaal Landschap Haspengouw en Voeren en met financiële steun van de provincie aan een natuurverbinding voor o.a. zoogdieren (klein wild\, vleermuizen) en insecten (vlinders en kevers). Daarvoor wordt o.a. de tunnel in de Brugstraat omgevormd tot een gecombineerde ecotunnel. Wil je de natuuromgeving verkennen en ben je benieuwd hoe de ecotunnel er zal uitzien? Kom dan naar deze natuurwandeling. Mondmasker verplicht.
URL:https://www.socialekalender.be/evenement/verkenningswandeling-ecotunnel/
LOCATION:De Steenberg\, Ganzestraat 31\, Diepenbeek\, Limburg\, 3590\, België
ATTACH;FMTTYPE=image/jpeg:https://www.socialekalender.be/wp-content/uploads/2020/08/ecotunnel-diepenbeek.jpg
END:VEVENT
END:VCALENDAR