BEGIN:VCALENDAR
VERSION:2.0
PRODID:-//Sociale Kalender - ECPv6.2.9//NONSGML v1.0//EN
CALSCALE:GREGORIAN
METHOD:PUBLISH
X-ORIGINAL-URL:https://www.socialekalender.be
X-WR-CALDESC:Evenementen voor Sociale Kalender
REFRESH-INTERVAL;VALUE=DURATION:PT1H
X-Robots-Tag:noindex
X-PUBLISHED-TTL:PT1H
BEGIN:VTIMEZONE
TZID:Europe/Brussels
BEGIN:DAYLIGHT
TZOFFSETFROM:+0100
TZOFFSETTO:+0200
TZNAME:CEST
DTSTART:20200329T010000
END:DAYLIGHT
BEGIN:STANDARD
TZOFFSETFROM:+0200
TZOFFSETTO:+0100
TZNAME:CET
DTSTART:20201025T010000
END:STANDARD
END:VTIMEZONE
BEGIN:VEVENT
DTSTART;TZID=Europe/Brussels:20200912T080000
DTEND;TZID=Europe/Brussels:20200912T130000
DTSTAMP:20260424T005859
CREATED:20200623T184030Z
LAST-MODIFIED:20200623T184030Z
UID:4184-1599897600-1599915600@www.socialekalender.be
SUMMARY:Biomarkt
DESCRIPTION:Limburg is erg rijk aan basisinitiatieven met een ecologisch en/of sociaal profiel. Hierdoor is er een sterk netwerk gegroeid van mensen en groepen die bewust\, duurzaam en solidair door het leven willen gaan. Tot ons groot geluk kunnen de werkingen stilaan weer recht veren na de versoepeling van de coronamaatregelen. Op zaterdag 23 mei was het zover voor de wekelijkse biomarkt in Winterslag. Sinds die dag kan de Vennestraat weer elke zaterdagochtend ontwaken met een levendige markt. Enkele meters verder\, ter hoogte van de Hoefstadstraat 21\, openen dan ook de kramen van de biomarkt. Het is een initiatief van vzw Rosendal Marked\, een project naar Deense inspiratie van Gilberte Claes. De bioboerderij Het Vrije Veld van Souliman Diraa verleende er dadelijk haar medewerking aan. Drie verkooppunten zorgen voor een gevarieerd aanbod. Binnen staat Gilberte achter de toog en biedt ze een assortiment van ter plaatse gebakken broden\, taarten en gebak aan. Robin Geurts is er de bakker van dienst. Daarnaast verkoopt Gilberte nog sappen en ook kazen vanuit de korte keten (Karditsel\, Catharinadal). Buiten brengt Souliman groenten en fruit aan de man\, deels van eigen teelt\, deels van andere Limburgse bioboeren\, aangevuld met enkele producten uit de biologische groothandel. Even verderop staat Bram Kriekels van Mycotopia (Diepenbeek) met verschillende soorten zelfgeteelde paddenstoelen. De biomarkt zal het jaar rond present zijn\, ook in juli en augustus.
URL:https://www.socialekalender.be/evenement/biomarkt-5/
LOCATION:Hoefstadstraat\, Hoefstadstraat\, Winterslag-Genk\, Limburg\, 3600\, België
ATTACH;FMTTYPE=image/jpeg:https://www.socialekalender.be/wp-content/uploads/2020/06/Souliman-biomarkt2-scaled.jpg
END:VEVENT
END:VCALENDAR