BEGIN:VCALENDAR
VERSION:2.0
PRODID:-//Sociale Kalender - ECPv6.2.9//NONSGML v1.0//EN
CALSCALE:GREGORIAN
METHOD:PUBLISH
X-ORIGINAL-URL:https://www.socialekalender.be
X-WR-CALDESC:Evenementen voor Sociale Kalender
REFRESH-INTERVAL;VALUE=DURATION:PT1H
X-Robots-Tag:noindex
X-PUBLISHED-TTL:PT1H
BEGIN:VTIMEZONE
TZID:Europe/Brussels
BEGIN:DAYLIGHT
TZOFFSETFROM:+0100
TZOFFSETTO:+0200
TZNAME:CEST
DTSTART:20200329T010000
END:DAYLIGHT
BEGIN:STANDARD
TZOFFSETFROM:+0200
TZOFFSETTO:+0100
TZNAME:CET
DTSTART:20201025T010000
END:STANDARD
END:VTIMEZONE
BEGIN:VEVENT
DTSTART;TZID=Europe/Brussels:20200914T193000
DTEND;TZID=Europe/Brussels:20200914T220000
DTSTAMP:20260424T005859
CREATED:20200702T140137Z
LAST-MODIFIED:20200912T063259Z
UID:4204-1600111800-1600120800@www.socialekalender.be
SUMMARY:Zenmeditatie (GEANNULEERD)
DESCRIPTION:  \n\n\n\n\n\n\n\n\n\n\nCentraal staat het zazen of de zitmeditatie\, op een kussen (op een bankje of een stoel kan ook). Dit gebeurt in een open en gastvrije groep van medebeoefenaars\, de sangha\, waarin iedere gemotiveerde zoeker\, van welke levensbeschouwing ook\, kan ’thuiskomen’. In deze groep wordt Soto Zen beoefend\, dit is de grootste zenschool in Japan met een traditie die teruggaat naar Dogen Zenji (1200-1253). De meditatie bestaat uit twee keer 35′ zazen\, afgewisseld met 10′ kinhin (wandelmeditatie). Nadien is er een korte vragenronde. De ceremonie met een kopje thee moet wegens de coronamaatregelen overgeslagen worden. Je draagt best sobere en losse kledij in niet te felle kleuren (vb een training).\n\n\n\n\n\n\n\n\n\n\n\n\nOmwille van de coronaveiligheid moet je zelf een aantal spullen meebrengen: een mat of dekentje\, en een kussen of bankje\, pantoffels of instekers voor de wandelmeditatie\, en een mondmasker.  Deze zenmeditaties vinden elke maandag buiten de vakanties plaats\, in de regel in Bethanië -Godsheide. De corona zorgde er echter voor dat er naar een andere locatie moest gezocht worden. Van 14 september tot minstens 5 oktober spreken de deelnemers af in zaal Heiwind\, naast de kapel van Kiewit-Heide. De meditatie wordt begeleid door de zenmonnik Marc Journée (midden op de foto). De eerste sessie is gratis\, daarna wordt er een bijdrage gevraagd om de huurkosten te dekken.
URL:https://www.socialekalender.be/evenement/zenmeditatie-6/
LOCATION:zaal Heiwind\, Beverzakstraat 218\, Hasselt\, Limburg\, 3500\, België
ATTACH;FMTTYPE=image/jpeg:https://www.socialekalender.be/wp-content/uploads/2020/07/Marc-Journée-en-Tokuda-1.jpg
ORGANIZER;CN="zenvereniging Gyoji":MAILTO:marc.journee@gmail.com
END:VEVENT
END:VCALENDAR