BEGIN:VCALENDAR
VERSION:2.0
PRODID:-//Sociale Kalender - ECPv6.2.9//NONSGML v1.0//EN
CALSCALE:GREGORIAN
METHOD:PUBLISH
X-WR-CALNAME:Sociale Kalender
X-ORIGINAL-URL:https://www.socialekalender.be
X-WR-CALDESC:Evenementen voor Sociale Kalender
REFRESH-INTERVAL;VALUE=DURATION:PT1H
X-Robots-Tag:noindex
X-PUBLISHED-TTL:PT1H
BEGIN:VTIMEZONE
TZID:Europe/Brussels
BEGIN:DAYLIGHT
TZOFFSETFROM:+0100
TZOFFSETTO:+0200
TZNAME:CEST
DTSTART:20200329T010000
END:DAYLIGHT
BEGIN:STANDARD
TZOFFSETFROM:+0200
TZOFFSETTO:+0100
TZNAME:CET
DTSTART:20201025T010000
END:STANDARD
END:VTIMEZONE
BEGIN:VEVENT
DTSTART;TZID=Europe/Brussels:20200920T140000
DTEND;TZID=Europe/Brussels:20200920T170000
DTSTAMP:20260424T005902
CREATED:20200825T053346Z
LAST-MODIFIED:20200825T053346Z
UID:4746-1600610400-1600621200@www.socialekalender.be
SUMMARY:Bosbaden
DESCRIPTION:Duik in een bosbad\, ruik de bosbodem\, en de bloeiende bloemen. Voel de zon. Hoor de wind ruisen in de bomen. Adem traag en merk dat de lucht zuiver is. Maak al je zintuigen wakker. Een bosbad verlaagt je stressniveau en bloeddruk\, stimuleert je energie\, creativiteit en concentratie.
URL:https://www.socialekalender.be/evenement/bosbaden/
LOCATION:bezoekerscentrum Hengelhoef\, Hengelhoefdreef 6\, Houthalen\, 3530
ATTACH;FMTTYPE=image/jpeg:https://www.socialekalender.be/wp-content/uploads/2020/08/bos-kempen.jpg
ORGANIZER;CN="Limburgs Landschap vzw":MAILTO:info@limburgs-landschap.be
END:VEVENT
END:VCALENDAR