BEGIN:VCALENDAR
VERSION:2.0
PRODID:-//Sociale Kalender - ECPv6.2.9//NONSGML v1.0//EN
CALSCALE:GREGORIAN
METHOD:PUBLISH
X-ORIGINAL-URL:https://www.socialekalender.be
X-WR-CALDESC:Evenementen voor Sociale Kalender
REFRESH-INTERVAL;VALUE=DURATION:PT1H
X-Robots-Tag:noindex
X-PUBLISHED-TTL:PT1H
BEGIN:VTIMEZONE
TZID:Europe/Brussels
BEGIN:DAYLIGHT
TZOFFSETFROM:+0100
TZOFFSETTO:+0200
TZNAME:CEST
DTSTART:20200329T010000
END:DAYLIGHT
BEGIN:STANDARD
TZOFFSETFROM:+0200
TZOFFSETTO:+0100
TZNAME:CET
DTSTART:20201025T010000
END:STANDARD
END:VTIMEZONE
BEGIN:VEVENT
DTSTART;TZID=Europe/Brussels:20200926T100000
DTEND;TZID=Europe/Brussels:20200926T120000
DTSTAMP:20260424T005859
CREATED:20200514T131106Z
LAST-MODIFIED:20200514T131106Z
UID:4165-1601114400-1601121600@www.socialekalender.be
SUMMARY:Repaircafé Hasselt
DESCRIPTION:In het repaircafé helpen we je met het herstellen van allerhande voorwerpen: kleding\, elektrische apparaten\, fietsen\, computers\,… De hulp is gratis en samen met de enthousiaste vrijwilligers steek je nog iets op ook! Ook wie niets heeft om te repareren is welkom en neemt een drankje aan de bar\, snuistert in de boeken van het boekenruilcafé of gaat kijken bij de reparatie van iemand anders. De afvalberg wordt kleiner en we werken aan een duurzame samenleving. Bovendien is het repaircafé ideaal om mensen te leren kennen.
URL:https://www.socialekalender.be/evenement/repaircafe-hasselt-3/
LOCATION:Vrijzinnig Punt en Boekhandel Grim
ATTACH;FMTTYPE=image/jpeg:https://www.socialekalender.be/wp-content/uploads/2018/05/download.jpg
END:VEVENT
BEGIN:VEVENT
DTSTART;TZID=Europe/Brussels:20200926T150000
DTEND;TZID=Europe/Brussels:20200926T160000
DTSTAMP:20260424T005859
CREATED:20200710T093430Z
LAST-MODIFIED:20200710T093430Z
UID:4633-1601132400-1601136000@www.socialekalender.be
SUMMARY:Kringlopen voor een leefbare wereld
DESCRIPTION:De ernst en urgentie van de klimaatopwarming dringt tot vandaag nog niet door bij de politici. Onder invloed van de machtige bedrijfslobby blijven ze zich focussen op een economisch model van eindeloze groei. Een model dat geen rekening houdt met het ecologisch plafond van onze planeet\, en evenmin met het sociaal fundament van haar inwoners. De vraag om verandering zal frequenter en zichtbaarder moeten worden\, en samen kunnen we daarvoor zorgen. We geloven in de kracht van samenhorigheid\, en ook in die van regelmaat. Daarom willen we iedereen met een hart voor mens en natuur graag uitnodigen om ’s zaterdags deel te nemen aan de stiltewandeling op De Ring (Groene Boulevard) voor een sociaal rechtvaardige en klimaatvriendelijke wereld. Met onze boodschap in de hand trachten we iedere zaterdag vanaf 15u op een vreedzame manier in stilte één maal rond de kleine ring van Hasselt te wandelen. Het initiatief gaat uit van De Ring\, een spontaan burgerinitiatief dat naast de vele digitale platformen een laagdrempelig analoog platform wil creëren waar mensen die kiezen voor een betere wereld enerzijds hun vraag om verandering zichtbaar kunnen maken en anderzijds verbinding kunnen maken met elkaar. Ook in tijden van corona is het belangrijk dat de stem om verandering gehoord blijft. Daarom respecteren we de veiligheidsmaatregelen door achter elkaar te wandelen en 1\,5 meter afstand te houden. We begonnen met en twintigtal mensen op 20 juni\, en herhalen de wandeling elke zaterdag. Wie weet kan onze stem wel groeien totdat De Ring helemaal rond is! Voor 26 september gaan we in elk geval extra mobiliseren. Tot op De Ring?
URL:https://www.socialekalender.be/evenement/kringlopen-voor-een-leefbare-wereld-2/
LOCATION:Kolonel Dusartplein\, Kolonel Dusartplein\, Hasselt\, 3500
ATTACH;FMTTYPE=image/jpeg:https://www.socialekalender.be/wp-content/uploads/2020/07/De-Ring-5.jpg
END:VEVENT
END:VCALENDAR