BEGIN:VCALENDAR
VERSION:2.0
PRODID:-//Sociale Kalender - ECPv6.2.9//NONSGML v1.0//EN
CALSCALE:GREGORIAN
METHOD:PUBLISH
X-WR-CALNAME:Sociale Kalender
X-ORIGINAL-URL:https://www.socialekalender.be
X-WR-CALDESC:Evenementen voor Sociale Kalender
REFRESH-INTERVAL;VALUE=DURATION:PT1H
X-Robots-Tag:noindex
X-PUBLISHED-TTL:PT1H
BEGIN:VTIMEZONE
TZID:Europe/Brussels
BEGIN:DAYLIGHT
TZOFFSETFROM:+0100
TZOFFSETTO:+0200
TZNAME:CEST
DTSTART:20200329T010000
END:DAYLIGHT
BEGIN:STANDARD
TZOFFSETFROM:+0200
TZOFFSETTO:+0100
TZNAME:CET
DTSTART:20201025T010000
END:STANDARD
END:VTIMEZONE
BEGIN:VEVENT
DTSTART;TZID=Europe/Brussels:20201001T140000
DTEND;TZID=Europe/Brussels:20201001T163000
DTSTAMP:20260423T183429
CREATED:20200902T190853Z
LAST-MODIFIED:20200902T190853Z
UID:4774-1601560800-1601569800@www.socialekalender.be
SUMMARY:Arm zijn je eigen schuld?
DESCRIPTION:Is arm zijn je eigen schuld? Of is het vooral een kwestie van pech hebben? Volgens Stef Vandebroek houden we armoede in stand door de manier waarop we onze samenleving organiseren. Hij spreekt vanuit zijn ervaring van meer dan 25 jaar in het opbouwwerk. In zijn lezing staat hij stil bij de verschillende vormen en oorzaken van armoede. Je leert over de gevolgen van beslissingen van de overheid op mensen in armoede en denkt na over de oorzaken ervan.
URL:https://www.socialekalender.be/evenement/arm-zijn-je-eigen-schuld/
LOCATION:DC De Kring\, Bosstraat 7\, Hamont-Achel\, Limburg\, 3930\, België
ATTACH;FMTTYPE=image/jpeg:https://www.socialekalender.be/wp-content/uploads/2020/09/Stef-Vandebroek.jpg
END:VEVENT
BEGIN:VEVENT
DTSTART;TZID=Europe/Brussels:20201001T200000
DTEND;TZID=Europe/Brussels:20201001T200000
DTSTAMP:20260423T183429
CREATED:20200807T152234Z
LAST-MODIFIED:20200807T152234Z
UID:4709-1601582400-1601582400@www.socialekalender.be
SUMMARY:Luik\, de stad en haar dialecten
DESCRIPTION:Frank Van den Veyver\, stadsgids\, vertelt over Luik\, haar architectuur\, haar geschiedenis en de Waalse dialecten van binnen en buiten de stad.
URL:https://www.socialekalender.be/evenement/luik-de-stad-en-haar-dialecten/
LOCATION:Bibliotheek\, Surlet de Chokierstraat 4\, Gingelom\, Limburg\, 3890\, België
ATTACH;FMTTYPE=image/jpeg:https://www.socialekalender.be/wp-content/uploads/2020/08/Luik.jpg
END:VEVENT
END:VCALENDAR