BEGIN:VCALENDAR
VERSION:2.0
PRODID:-//Sociale Kalender - ECPv6.2.9//NONSGML v1.0//EN
CALSCALE:GREGORIAN
METHOD:PUBLISH
X-WR-CALNAME:Sociale Kalender
X-ORIGINAL-URL:https://www.socialekalender.be
X-WR-CALDESC:Evenementen voor Sociale Kalender
REFRESH-INTERVAL;VALUE=DURATION:PT1H
X-Robots-Tag:noindex
X-PUBLISHED-TTL:PT1H
BEGIN:VTIMEZONE
TZID:Europe/Brussels
BEGIN:DAYLIGHT
TZOFFSETFROM:+0100
TZOFFSETTO:+0200
TZNAME:CEST
DTSTART:20200329T010000
END:DAYLIGHT
BEGIN:STANDARD
TZOFFSETFROM:+0200
TZOFFSETTO:+0100
TZNAME:CET
DTSTART:20201025T010000
END:STANDARD
END:VTIMEZONE
BEGIN:VEVENT
DTSTART;TZID=Europe/Brussels:20201006T193000
DTEND;TZID=Europe/Brussels:20201006T193000
DTSTAMP:20260423T183430
CREATED:20200423T145400Z
LAST-MODIFIED:20200906T061229Z
UID:4118-1602012600-1602012600@www.socialekalender.be
SUMMARY:Zevende universitaire dialectavond met Herman Reynders (geannuleerd)
DESCRIPTION:Ook de universiteit van Hasselt draagt de Limburgse dialecten in het hart. Daarom nodigt ze af en toe een gastspreker uit om een hoorcollege te geven in de streektaal. Eind vorig jaar sprak Willy Claes over de opkomst van China in de internationale relaties\, en in maart gaven we het woord aan Willy Miermans\, die een uiteenzetting gaf over mobiliteit in Limburg. Voor ons zevende exposé hebben we Herman Reynders uitgenodigd\, gewezen provinciegouverneur. Hij zal dat brengen in zijn moedertaal\, het Hasselts. We voorzien ook weer muzikale intermezzi in de streektaal. De toegang is gratis\, en achteraf wordt er een kleine receptie aangeboden om na te praten.
URL:https://www.socialekalender.be/evenement/zevende-universitaire-dialectavond-met-herman-reynders/
LOCATION:Universiteit Hasselt Campus Oude Gevangenis\, Auditorium Louis Roppe\, Martelarenlaan 42\, Hasselt\, 3500\, België
ATTACH;FMTTYPE=image/png:https://www.socialekalender.be/wp-content/uploads/2020/04/herman-reynders.png
END:VEVENT
END:VCALENDAR