BEGIN:VCALENDAR
VERSION:2.0
PRODID:-//Sociale Kalender - ECPv6.2.9//NONSGML v1.0//EN
CALSCALE:GREGORIAN
METHOD:PUBLISH
X-WR-CALNAME:Sociale Kalender
X-ORIGINAL-URL:https://www.socialekalender.be
X-WR-CALDESC:Evenementen voor Sociale Kalender
REFRESH-INTERVAL;VALUE=DURATION:PT1H
X-Robots-Tag:noindex
X-PUBLISHED-TTL:PT1H
BEGIN:VTIMEZONE
TZID:Europe/Brussels
BEGIN:DAYLIGHT
TZOFFSETFROM:+0100
TZOFFSETTO:+0200
TZNAME:CEST
DTSTART:20200329T010000
END:DAYLIGHT
BEGIN:STANDARD
TZOFFSETFROM:+0200
TZOFFSETTO:+0100
TZNAME:CET
DTSTART:20201025T010000
END:STANDARD
END:VTIMEZONE
BEGIN:VEVENT
DTSTART;TZID=Europe/Brussels:20201016T100000
DTEND;TZID=Europe/Brussels:20201016T170000
DTSTAMP:20260423T183428
CREATED:20200821T060813Z
LAST-MODIFIED:20200821T060813Z
UID:4734-1602842400-1602867600@www.socialekalender.be
SUMMARY:Inspiratiecursus agro-ecologie (start)
DESCRIPTION:Vormingscentrum De Landwijzer richt deze 5 cursusdagen in om een beeld te scheppen van de biologische landbouw in Vlaanderen. De agro-ecologische systeembenadering staat hierbij centraal. Ter plaatse op bedrijven en praktijkcentra\, en onder begeleiding van ervaren docenten\, kom je in contact met de praktijk van de biologische landbouw. We doorgaan een traject dat start bij de bodem en eindigt bij de marktafzet van een biologisch product. We komen een keer om de veertien dagen samen. De cursus vindt plaats in Sint-Laureins\, Oud-Turnhout\, Deinze\, Gent en Kruishoutem. Hij richt zich tot een ruim publiek van betrokkenen en geïnteresseerden. Parallel met deze reeks start er nog een tweede op 30 oktober\, met omzeggens hetzelfde programma. Meer info via www.landwijzer.be.
URL:https://www.socialekalender.be/evenement/inspiratiecursus-agro-ecologie-start/
LOCATION:’t Lavinushof\, Molenkreekstraat 3\, Sint-Laureins\, 9981\, België
ATTACH;FMTTYPE=image/jpeg:https://www.socialekalender.be/wp-content/uploads/2020/08/biologische-landbouw.jpg
END:VEVENT
END:VCALENDAR