BEGIN:VCALENDAR
VERSION:2.0
PRODID:-//Sociale Kalender - ECPv6.2.9//NONSGML v1.0//EN
CALSCALE:GREGORIAN
METHOD:PUBLISH
X-WR-CALNAME:Sociale Kalender
X-ORIGINAL-URL:https://www.socialekalender.be
X-WR-CALDESC:Evenementen voor Sociale Kalender
REFRESH-INTERVAL;VALUE=DURATION:PT1H
X-Robots-Tag:noindex
X-PUBLISHED-TTL:PT1H
BEGIN:VTIMEZONE
TZID:Europe/Brussels
BEGIN:DAYLIGHT
TZOFFSETFROM:+0100
TZOFFSETTO:+0200
TZNAME:CEST
DTSTART:20200329T010000
END:DAYLIGHT
BEGIN:STANDARD
TZOFFSETFROM:+0200
TZOFFSETTO:+0100
TZNAME:CET
DTSTART:20201025T010000
END:STANDARD
END:VTIMEZONE
BEGIN:VEVENT
DTSTART;TZID=Europe/Brussels:20201017T080000
DTEND;TZID=Europe/Brussels:20201017T130000
DTSTAMP:20260423T183430
CREATED:20200921T060213Z
LAST-MODIFIED:20200921T060213Z
UID:4812-1602921600-1602939600@www.socialekalender.be
SUMMARY:Biomarkt
DESCRIPTION:Limburg is erg rijk aan basisinitiatieven met een ecologisch en/of sociaal profiel. Hierdoor is er een sterk netwerk gegroeid van mensen en groepen die bewust\, duurzaam en solidair door het leven willen gaan. Tot ons groot geluk kunnen de werkingen stilaan weer recht veren na de versoepeling van de coronamaatregelen. Op zaterdag 23 mei was het zover voor de wekelijkse biomarkt in Winterslag. Sinds die dag kan de Vennestraat weer elke zaterdagochtend ontwaken met een levendige markt. Enkele meters verder\, ter hoogte van de Hoefstadstraat 21\, openen dan ook de kramen van de biomarkt. Het is een initiatief van vzw Rosendal Marked\, een project naar Deense inspiratie van Gilberte Claes. De bioboerderij Het Vrije Veld van Souliman Diraa verleende er dadelijk haar medewerking aan. Drie verkooppunten zorgen voor een gevarieerd aanbod. Binnen staat Gilberte achter de toog en biedt ze een assortiment van ter plaatse gebakken broden\, taarten en gebak aan. Robin Geurts is er de bakker van dienst. Daarnaast verkoopt Gilberte nog sappen en ook kazen vanuit de korte keten (Karditsel\, Catharinadal). Buiten brengt Souliman groenten en fruit aan de man\, deels van eigen teelt\, deels van andere Limburgse bioboeren\, aangevuld met enkele producten uit de biologische groothandel. Even verderop staat Bram Kriekels van Mycotopia (Diepenbeek) met verschillende soorten zelfgeteelde paddenstoelen. De biomarkt is het jaar rond present.
URL:https://www.socialekalender.be/evenement/biomarkt/
LOCATION:Hoefstadstraat\, Hoefstadstraat\, Winterslag-Genk\, Limburg\, 3600\, België
ATTACH;FMTTYPE=image/jpeg:https://www.socialekalender.be/wp-content/uploads/2020/09/Souliman-biomarkt2-1-scaled.jpg
END:VEVENT
BEGIN:VEVENT
DTSTART;TZID=Europe/Brussels:20201017T100000
DTEND;TZID=Europe/Brussels:20201017T180000
DTSTAMP:20260423T183430
CREATED:20200921T061619Z
LAST-MODIFIED:20200921T061652Z
UID:4825-1602928800-1602957600@www.socialekalender.be
SUMMARY:Werelddag van het verzet tegen de armoede
DESCRIPTION:Net zoals vele andere activiteiten wordt 17 oktober dit jaar in een ander jasje gestoken omwille van corona. Het doel blijft wel om extra aandacht te vragen voor het thema armoede en om mensen bewust te maken van dit complexe probleem. We zetten het thema en de mensen die dagelijks de strijd met armoede aangaan (persoonlijk of in groep) centraal. \nVoor de armoedeorganisaties is er een ontmoetingsmoment voorzien. Maar omdat de coronamaatregelen een schaalverkleining vragen\, wordt deze samenkomt niet breed bekend gemaakt. De actie “aan tafel met…”\, waarbij 2 mensen uit een kansrijke context aan tafel gaan met 2 mensen in armoede\, wordt herhaald\, op video gezet en o.a. op de facebookpagina van RIMO Limburg geplaatst. Daarnaast wordt aan iedereen gevraagd om een geknoopt wit laken uit het raam te Net zoals vele andere activiteiten wordt 17 oktober dit jaar in een ander jasje gestoken omwille van corona. Het doel blijft wel om extra aandacht te vragen voor het thema armoede en om mensen bewust te maken van dit complexe probleem. We zetten het thema en de mensen die dagelijks de strijd met armoede aangaan (persoonlijk of in groep) centraal. . Een andere actie\, “17 seconden kabaal”\, vraagt om in groep 17 seconden zo luid mogelijk lawaai te maken\, hiervan een filmpje te maken en dit in de week van 17 oktober op de sociale media te posten met de #laatvanjehoren #werelddagvanverzettegenarmoede. Maar de hoofdbrok van het programma wordt via de radio geleverd. Van 10u tot 18u neemt Trefpunt Armoede Limburg de studio over en laat deze organisatie mensen met armoede-ervaring aan het woord. Er zullen heel wat protestliederen gedraaid worden\, maar er zijn ook gesprekken met experten en beleidsmakers over het armoedethema. Stem af op Radio Benelux op 107.5fm of luister online via https://radiosonline.be/benelux/
URL:https://www.socialekalender.be/evenement/werelddag-van-het-verzet-tegen-de-armoede/
LOCATION:VIA Radio Benelux
END:VEVENT
BEGIN:VEVENT
DTSTART;TZID=Europe/Brussels:20201017T140000
DTEND;TZID=Europe/Brussels:20201017T160000
DTSTAMP:20260423T183430
CREATED:20200704T124407Z
LAST-MODIFIED:20200704T124407Z
UID:4236-1602943200-1602950400@www.socialekalender.be
SUMMARY:Braakballen pluizen
DESCRIPTION:Ontdek wat uilen allemaal oppeuzelen! Uilen en andere vogelsoorten zoals roofvogels\, reigers\, … eten muizen en andere prooien. De onverteerde resten braken ze uit als ‘braakballen’. \nOp het Monshof in Reppel wonen sinds mensenheugenis uilen. Maar welk eten vinden deze uilen daar in de omgeving? Wanneer je met een beetje geduld de braakballen uitpluist\, vind je tal van schildjes van insecten\, ook piepkleine botjes en schedeltjes van muizen. En met die botjes en schedeltjes kan je achterhalen welke muizen ze opgegeten hebben. Kom met je (klein)kinderen mee pluizen. Op zoekkaarten leer je terug te vinden welke muis op het menu stond. Deze activiteit is gratis voor leden. Het lidmaatschap kost € 3\, of € 5 per gezin. Inschrijven verplicht\, met vermelding van het aantal volwassenen en kinderen. Parkeren kan achter de bocht naast de boomgaard.
URL:https://www.socialekalender.be/evenement/braakballen-pluizen/
LOCATION:Hoeve Monshof\, Monshofstraat 32\, Reppel-Bocholt\, Limburg\, 3950\, België
ATTACH;FMTTYPE=image/jpeg:https://www.socialekalender.be/wp-content/uploads/2020/07/Braakballen.jpg
END:VEVENT
BEGIN:VEVENT
DTSTART;TZID=Europe/Brussels:20201017T140000
DTEND;TZID=Europe/Brussels:20201017T180000
DTSTAMP:20260423T183430
CREATED:20201012T093047Z
LAST-MODIFIED:20201012T093047Z
UID:4930-1602943200-1602957600@www.socialekalender.be
SUMMARY:Actie tegen armoede in Hasselt
DESCRIPTION:Als je niet tot de betere middenklasse behoort\, is wonen in onze stad onbetaalbaar. Een hele reeks armoedeorganisaties vraagt aandacht voor deze woononzekerheid via een actie aan de Kanaalkom. Een hele keten van lakens met slogans verbindt er dan de luxueuze flatgebouwen met het Volkstehuis. Vertegenwoordigers van deze comités voorzien de bezoekers van een woordje uitleg. Ondertussen kan je in het Volkstehuis coronaveilig iets drinken. Omstreeks 17.30u wordt er aan het borstbeeld van professor Paesmans een wake gehouden om de 6 daklozen die afgelopen jaar in Hasselt overleden zijn te gedenken. Radio Benelux zendt dit rechtstreeks uit.
URL:https://www.socialekalender.be/evenement/actie-tegen-armoede-in-hasselt/
LOCATION:Volkstehuis\, Kempische Kaai 11\, Hasselt\, 3500
ATTACH;FMTTYPE=image/jpeg:https://www.socialekalender.be/wp-content/uploads/2019/07/Paesmans.jpg
END:VEVENT
END:VCALENDAR