BEGIN:VCALENDAR
VERSION:2.0
PRODID:-//Sociale Kalender - ECPv6.2.9//NONSGML v1.0//EN
CALSCALE:GREGORIAN
METHOD:PUBLISH
X-WR-CALNAME:Sociale Kalender
X-ORIGINAL-URL:https://www.socialekalender.be
X-WR-CALDESC:Evenementen voor Sociale Kalender
REFRESH-INTERVAL;VALUE=DURATION:PT1H
X-Robots-Tag:noindex
X-PUBLISHED-TTL:PT1H
BEGIN:VTIMEZONE
TZID:Europe/Brussels
BEGIN:DAYLIGHT
TZOFFSETFROM:+0100
TZOFFSETTO:+0200
TZNAME:CEST
DTSTART:20200329T010000
END:DAYLIGHT
BEGIN:STANDARD
TZOFFSETFROM:+0200
TZOFFSETTO:+0100
TZNAME:CET
DTSTART:20201025T010000
END:STANDARD
END:VTIMEZONE
BEGIN:VEVENT
DTSTART;TZID=Europe/Brussels:20201020T201500
DTEND;TZID=Europe/Brussels:20201020T223000
DTSTAMP:20260423T183428
CREATED:20200704T123736Z
LAST-MODIFIED:20200704T123736Z
UID:4232-1603224900-1603233000@www.socialekalender.be
SUMMARY:Walter Zinzen over Congo
DESCRIPTION:De vroegere VRT-journalist en Congokenner Walter Zinzen houdt een lezing onder de titel “Congo tussen hoop en wanhoop”.
URL:https://www.socialekalender.be/evenement/walter-zinzen-over-congo/
LOCATION:Academiezaal\, Plankstraat 18\, Sint-Truiden\, 3800\, België
ATTACH;FMTTYPE=image/jpeg:https://www.socialekalender.be/wp-content/uploads/2020/07/Walter-Zinzen.jpg
ORGANIZER;CN="11.11.11":MAILTO:limburg@11.be
END:VEVENT
END:VCALENDAR