BEGIN:VCALENDAR
VERSION:2.0
PRODID:-//Sociale Kalender - ECPv6.2.9//NONSGML v1.0//EN
CALSCALE:GREGORIAN
METHOD:PUBLISH
X-ORIGINAL-URL:https://www.socialekalender.be
X-WR-CALDESC:Evenementen voor Sociale Kalender
REFRESH-INTERVAL;VALUE=DURATION:PT1H
X-Robots-Tag:noindex
X-PUBLISHED-TTL:PT1H
BEGIN:VTIMEZONE
TZID:Europe/Brussels
BEGIN:DAYLIGHT
TZOFFSETFROM:+0100
TZOFFSETTO:+0200
TZNAME:CEST
DTSTART:20200329T010000
END:DAYLIGHT
BEGIN:STANDARD
TZOFFSETFROM:+0200
TZOFFSETTO:+0100
TZNAME:CET
DTSTART:20201025T010000
END:STANDARD
END:VTIMEZONE
BEGIN:VEVENT
DTSTART;TZID=Europe/Brussels:20201024T190000
DTEND;TZID=Europe/Brussels:20201024T230000
DTSTAMP:20260423T183425
CREATED:20191227T101321Z
LAST-MODIFIED:20200923T133615Z
UID:3789-1603566000-1603580400@www.socialekalender.be
SUMMARY:Ontmoetingsavond voor Levensbeschouwingen (uitgesteld)
DESCRIPTION:Tijdens een quiz kom je meer te weten over religies en levensbeschouwingen. Je gaat samen aan de slag om de juiste antwoorden te zoeken. Rituelen\, gewoonten\, tradities\, figuren\, verschillen en gelijkenissen\, … ze komen allemaal aan bod. Je kan je alleen of per twee inschrijven. We stellen de ploegjes ter plaatse samen\, en wisselen hun samenstelling in de loop van de avond. De klemtoon ligt niet op de wedstrijd\, maar op de uitleg achteraf en de gedachtewisseling. De avond wordt afgerond met meditatieve muziek van Koen Fossey en Jef Houbrechts\, en ondertussen vindt er een prijsuitreiking plaats. Om de contacten en uitwisselingen te bevorderen bieden we achteraf een kleine receptie aan vanuit het Agentschap Integratie en Inburgering.
URL:https://www.socialekalender.be/evenement/ontmoetingsavond-voor-levensbeschouwingen-2/
LOCATION:kerk van Oud-Waterschei\, André Dumontlaan 218\, Genk\, 3600
ATTACH;FMTTYPE=image/jpeg:https://www.socialekalender.be/wp-content/uploads/2019/12/ontmoeting-levensbeschouwingen.jpg
END:VEVENT
END:VCALENDAR