BEGIN:VCALENDAR
VERSION:2.0
PRODID:-//Sociale Kalender - ECPv6.2.9//NONSGML v1.0//EN
CALSCALE:GREGORIAN
METHOD:PUBLISH
X-WR-CALNAME:Sociale Kalender
X-ORIGINAL-URL:https://www.socialekalender.be
X-WR-CALDESC:Evenementen voor Sociale Kalender
REFRESH-INTERVAL;VALUE=DURATION:PT1H
X-Robots-Tag:noindex
X-PUBLISHED-TTL:PT1H
BEGIN:VTIMEZONE
TZID:Europe/Brussels
BEGIN:DAYLIGHT
TZOFFSETFROM:+0100
TZOFFSETTO:+0200
TZNAME:CEST
DTSTART:20200329T010000
END:DAYLIGHT
BEGIN:STANDARD
TZOFFSETFROM:+0200
TZOFFSETTO:+0100
TZNAME:CET
DTSTART:20201025T010000
END:STANDARD
END:VTIMEZONE
BEGIN:VEVENT
DTSTART;TZID=Europe/Brussels:20201029T183000
DTEND;TZID=Europe/Brussels:20201029T183000
DTSTAMP:20260423T164954
CREATED:20200923T134207Z
LAST-MODIFIED:20200923T134207Z
UID:4859-1603996200-1603996200@www.socialekalender.be
SUMMARY:Netwerkmoment repaircafés
DESCRIPTION:Ben je vrijwilliger in een repaircafé of heb je plannen om er een op te starten in je gemeente? Op dit netwerkmoment ontmoet je andere medewerkers en vrijwilligers uit heel Limburg. Je kan er deelnemen aan workshops en kennis en ervaringen uitwisselen. Breng je mondmasker mee\, en wij zorgen ervoor dat de sociale afstand kan bewaard worden.
URL:https://www.socialekalender.be/evenement/netwerkmoment-repaircafes/
LOCATION:Scholen Kindsheid Jesu\, Kempische Steenweg 400\, Hasselt (Kiewit)\, Limburg\, 3500\, België
ATTACH;FMTTYPE=image/jpeg:https://www.socialekalender.be/wp-content/uploads/2017/11/RC-logo-sm-1.jpg
END:VEVENT
END:VCALENDAR