BEGIN:VCALENDAR
VERSION:2.0
PRODID:-//Sociale Kalender - ECPv6.2.9//NONSGML v1.0//EN
CALSCALE:GREGORIAN
METHOD:PUBLISH
X-ORIGINAL-URL:https://www.socialekalender.be
X-WR-CALDESC:Evenementen voor Sociale Kalender
REFRESH-INTERVAL;VALUE=DURATION:PT1H
X-Robots-Tag:noindex
X-PUBLISHED-TTL:PT1H
BEGIN:VTIMEZONE
TZID:Europe/Brussels
BEGIN:DAYLIGHT
TZOFFSETFROM:+0100
TZOFFSETTO:+0200
TZNAME:CEST
DTSTART:20200329T010000
END:DAYLIGHT
BEGIN:STANDARD
TZOFFSETFROM:+0200
TZOFFSETTO:+0100
TZNAME:CET
DTSTART:20201025T010000
END:STANDARD
END:VTIMEZONE
BEGIN:VEVENT
DTSTART;TZID=Europe/Brussels:20201030T130000
DTEND;TZID=Europe/Brussels:20201030T160000
DTSTAMP:20260423T164951
CREATED:20201004T091501Z
LAST-MODIFIED:20201019T191705Z
UID:4871-1604062800-1604073600@www.socialekalender.be
SUMMARY:Demonstratie bierbrouwen (uitgesteld)
DESCRIPTION:Joris Mentens en Ward Strauwen zijn gepassioneerd door het ontwikkelen van nieuwe en verfijnde smaken in hun nieuwe artisanale brouwerij. In augustus gingen ze met Brauw van start\, midden in het centrum van Genk. Joris\, van opleiding bio-ingenieur\, volgde een cursus voor microbrouwer en zythologie (bierkunde)\, en deed o.a. in Wilderen ervaring op. In Brauw kan iedereen ter plaatse bieren proeven (van henzelf en van bevriende brouwers)\, eventueel met een passend hapje erbij. Maar men kan er ook workshops volgen\, bierproeverijen opzetten\, en een eigen bier ontwikkelen. Verenigingen kunnen er werken aan een kringbier of dorpsbier. Wie het bierbrouwen met eigen ogen wil volgen\, kan altijd eens binnenvallen tijdens de openingsuren. De grootste kans dat men Joris aantreft terwijl hij er aan de slag is\, heeft men op een donderdag of vrijdag omstreeks 17u. Dat is bijvoorbeeld het geval op 29 en 30 oktober.
URL:https://www.socialekalender.be/evenement/demonstratie-bierbrouwen/
LOCATION:Dorpsbrouwerij Brauw\, Molenstraat 37\, Genk\, Limburg\, 3600\, België
ATTACH;FMTTYPE=image/jpeg:https://www.socialekalender.be/wp-content/uploads/2020/10/brauw.jpg
END:VEVENT
END:VCALENDAR