BEGIN:VCALENDAR
VERSION:2.0
PRODID:-//Sociale Kalender - ECPv6.2.9//NONSGML v1.0//EN
CALSCALE:GREGORIAN
METHOD:PUBLISH
X-ORIGINAL-URL:https://www.socialekalender.be
X-WR-CALDESC:Evenementen voor Sociale Kalender
REFRESH-INTERVAL;VALUE=DURATION:PT1H
X-Robots-Tag:noindex
X-PUBLISHED-TTL:PT1H
BEGIN:VTIMEZONE
TZID:Europe/Brussels
BEGIN:DAYLIGHT
TZOFFSETFROM:+0100
TZOFFSETTO:+0200
TZNAME:CEST
DTSTART:20200329T010000
END:DAYLIGHT
BEGIN:STANDARD
TZOFFSETFROM:+0200
TZOFFSETTO:+0100
TZNAME:CET
DTSTART:20201025T010000
END:STANDARD
END:VTIMEZONE
BEGIN:VEVENT
DTSTART;TZID=Europe/Brussels:20201118T200000
DTEND;TZID=Europe/Brussels:20201118T220000
DTSTAMP:20260423T164950
CREATED:20200306T151108Z
LAST-MODIFIED:20201115T081246Z
UID:4020-1605729600-1605736800@www.socialekalender.be
SUMMARY:Mystieke auteurs ontdekken: Hildegard von Bingen (geannuleerd)
DESCRIPTION:Deze benedictijnse abdis uit Duitsland verkreeg bekendheid omwille van haar mystieke teksten\, maar ook haar vocale composities en haar werken over geneeskrachtige kruiden. We lezen haar teksten\, luisteren naar haar muziek en delen wat het ons doet.
URL:https://www.socialekalender.be/evenement/mystieke-auteurs-ontdekken-hildegard-von-bingen/
LOCATION:Vormingplus\, Cellebroedersstraat 13-15\, Hasselt\, 3500
ATTACH;FMTTYPE=image/jpeg:https://www.socialekalender.be/wp-content/uploads/2020/03/hildegard-von-Bingen.jpg
END:VEVENT
END:VCALENDAR