BEGIN:VCALENDAR
VERSION:2.0
PRODID:-//Sociale Kalender - ECPv6.2.9//NONSGML v1.0//EN
CALSCALE:GREGORIAN
METHOD:PUBLISH
X-ORIGINAL-URL:https://www.socialekalender.be
X-WR-CALDESC:Evenementen voor Sociale Kalender
REFRESH-INTERVAL;VALUE=DURATION:PT1H
X-Robots-Tag:noindex
X-PUBLISHED-TTL:PT1H
BEGIN:VTIMEZONE
TZID:Europe/Brussels
BEGIN:DAYLIGHT
TZOFFSETFROM:+0100
TZOFFSETTO:+0200
TZNAME:CEST
DTSTART:20200329T010000
END:DAYLIGHT
BEGIN:STANDARD
TZOFFSETFROM:+0200
TZOFFSETTO:+0100
TZNAME:CET
DTSTART:20201025T010000
END:STANDARD
END:VTIMEZONE
BEGIN:VEVENT
DTSTART;TZID=Europe/Brussels:20201120T091500
DTEND;TZID=Europe/Brussels:20201120T091500
DTSTAMP:20260423T164950
CREATED:20201009T153303Z
LAST-MODIFIED:20201115T081205Z
UID:4924-1605863700-1605863700@www.socialekalender.be
SUMMARY:Van wonde naar verwondering (geannuleerd)
DESCRIPTION:Elk leven kent wonden die geheeld willen worden. Door een spirituele benadering kunnen die uitgroeien tot een bron van verwondering. Mededogen en overgave zijn daarbij aandachtspunten. Tijdens het weekend “Vanuit de wonde. Samen op weg naar verwondering”\, van vrijdag 20 november om 9.15u tot zondag 22 november om 16.30u in de abdij van Postel\, gaan de deelnemers intensief aan de slag\, aan de hand van diverse werkvormen en dialooguitwisselingen. Daarnaast is er aandacht voor stilte en meditatie\, op zoek naar wat wezenlijk is. Het weekend kost 185 euro\, inclusief maaltijden en overnachtingen\, en is een initiatief van Metgezel in Zingeving. Inschrijven vóór 30 oktober via telefoon\, mailadres of website. De inschrijving is definitief na betaling van een voorschot van 25 euro op rekeningnummer NL30TRIO 0390 3000 47.
URL:https://www.socialekalender.be/evenement/van-wonde-naar-verwondering/
LOCATION:limburg
ATTACH;FMTTYPE=image/jpeg:https://www.socialekalender.be/wp-content/uploads/2020/10/hqdefault.jpg
END:VEVENT
BEGIN:VEVENT
DTSTART;TZID=Europe/Brussels:20201120T190000
DTEND;TZID=Europe/Brussels:20201120T190000
DTSTAMP:20260423T164950
CREATED:20201019T193131Z
LAST-MODIFIED:20201115T081117Z
UID:4955-1605898800-1605898800@www.socialekalender.be
SUMMARY:Boekvoorstelling door Luc Vankrunkelsven (geannuleerd)
DESCRIPTION:Luc Vankrunkelsven van WERVEL (Werkgroep voor Rechtvaardige en Verantwoorde Landbouw vzw) stelt ons eerst de film “Voeten op de aarde” voor\, over de agro-ecologie in de Braziliaanse Cerrado (33′). Daarna stelt hij ons zijn nieuwste boek voor: “Een wereld van verdoken slavernij”. Alles gebeurt in een coronaveilige setting. Mondmasker verplicht.
URL:https://www.socialekalender.be/evenement/boekvoorstelling-door-luc-vankrunkelsven/
LOCATION:Atelier Warm&Proper\, Havenstraat 5\, Genk\, 3600
ATTACH;FMTTYPE=image/jpeg:https://www.socialekalender.be/wp-content/uploads/2020/10/Luc-Vankrunkelsven-boek.jpg
END:VEVENT
END:VCALENDAR