BEGIN:VCALENDAR
VERSION:2.0
PRODID:-//Sociale Kalender - ECPv6.2.9//NONSGML v1.0//EN
CALSCALE:GREGORIAN
METHOD:PUBLISH
X-ORIGINAL-URL:https://www.socialekalender.be
X-WR-CALDESC:Evenementen voor Sociale Kalender
REFRESH-INTERVAL;VALUE=DURATION:PT1H
X-Robots-Tag:noindex
X-PUBLISHED-TTL:PT1H
BEGIN:VTIMEZONE
TZID:Europe/Brussels
BEGIN:DAYLIGHT
TZOFFSETFROM:+0100
TZOFFSETTO:+0200
TZNAME:CEST
DTSTART:20200329T010000
END:DAYLIGHT
BEGIN:STANDARD
TZOFFSETFROM:+0200
TZOFFSETTO:+0100
TZNAME:CET
DTSTART:20201025T010000
END:STANDARD
END:VTIMEZONE
BEGIN:VEVENT
DTSTART;TZID=Europe/Brussels:20201128T090000
DTEND;TZID=Europe/Brussels:20201128T120000
DTSTAMP:20260423T164950
CREATED:20200923T133515Z
LAST-MODIFIED:20201115T081016Z
UID:4852-1606554000-1606564800@www.socialekalender.be
SUMMARY:Workshop permacultuur (geannuleerd)
DESCRIPTION:De mens en de natuur duurzaam laten samenwerken in je groentetuin\, dat is het doel van permacultuur. Marleen Massonnet geeft praktische tips over het ontwerpsysteem en de teelt. Schrijf je in via de website www.centrumduurzaamgroen.be/vormingamber.
URL:https://www.socialekalender.be/evenement/workshop-permacultuur/
LOCATION:Zaal De Kruin\, Putvennestraat 108\, Hasselt\, Limburg\, 3500\, België
ATTACH;FMTTYPE=image/jpeg:https://www.socialekalender.be/wp-content/uploads/2020/09/voedselbos.jpg
END:VEVENT
BEGIN:VEVENT
DTSTART;TZID=Europe/Brussels:20201128T200000
DTEND;TZID=Europe/Brussels:20201128T210000
DTSTAMP:20260423T164950
CREATED:20201118T141309Z
LAST-MODIFIED:20201118T141309Z
UID:5004-1606593600-1606597200@www.socialekalender.be
SUMMARY:Startdag cohousing Moos°Herk
DESCRIPTION:Het samenhuizingsproject Moos°Herk in het voormalige gemeentehuis van  Sint-Lambrechts-Herk is van start gegaan. Het gaat om een coöperatief woonmodel bestaande uit 33 variërende woonunits met geneenschappelijke ruimten en deelmobiliteit. De bewoners gaan voor multigenerationeel samenleven\, waar kinderen vrij en veilig samen kunnen spelen\, met een uitgebreid sociaal netwerk. De site wordt door het stadsbestuur in erfpacht gegeven. \n  \nDe initiatiefnemers waren van plan om een opendeurdag te organiseren voor alle geïnteresseerden. In de plaats wordt nu iedereen uitgenodigd om deel te nemen aan een videosessie via zoom. Een eerste sessie vindt plaats om 16u\, de tweede om 20u.
URL:https://www.socialekalender.be/evenement/startdag-cohousing-moosherk/
LOCATION:ONLINE
ATTACH;FMTTYPE=image/jpeg:https://www.socialekalender.be/wp-content/uploads/2020/11/cohousing-Moos°Herk-scaled.jpg
END:VEVENT
END:VCALENDAR