BEGIN:VCALENDAR
VERSION:2.0
PRODID:-//Sociale Kalender - ECPv6.2.9//NONSGML v1.0//EN
CALSCALE:GREGORIAN
METHOD:PUBLISH
X-WR-CALNAME:Sociale Kalender
X-ORIGINAL-URL:https://www.socialekalender.be
X-WR-CALDESC:Evenementen voor Sociale Kalender
REFRESH-INTERVAL;VALUE=DURATION:PT1H
X-Robots-Tag:noindex
X-PUBLISHED-TTL:PT1H
BEGIN:VTIMEZONE
TZID:Europe/Brussels
BEGIN:DAYLIGHT
TZOFFSETFROM:+0100
TZOFFSETTO:+0200
TZNAME:CEST
DTSTART:20200329T010000
END:DAYLIGHT
BEGIN:STANDARD
TZOFFSETFROM:+0200
TZOFFSETTO:+0100
TZNAME:CET
DTSTART:20201025T010000
END:STANDARD
END:VTIMEZONE
BEGIN:VEVENT
DTSTART;TZID=Europe/Brussels:20201201T193000
DTEND;TZID=Europe/Brussels:20201201T220000
DTSTAMP:20260423T144615
CREATED:20201007T114201Z
LAST-MODIFIED:20201007T114201Z
UID:4901-1606851000-1606860000@www.socialekalender.be
SUMMARY:Korte keten\, wat en hoe?
DESCRIPTION:In een Korte Keten landbouw is de weg van de producent naar de consument\, of van boer tot bord\, zo kort mogelijk. Dat wil zeggen dat we als klant rechtstreeks bij de producent kopen. Of toch minstens weten waar ons eten vandaan komt. Waarom is dat zo belangrijk? En vooral\, hoe breng je dat in de praktijk in jouw gemeente? Christel Vanderheyden zet ons op weg.
URL:https://www.socialekalender.be/evenement/korte-keten-wat-en-hoe/
LOCATION:limburg
ATTACH;FMTTYPE=image/jpeg:https://www.socialekalender.be/wp-content/uploads/2020/10/korte-keten.jpg
ORGANIZER;CN="CC Maasmechelen":MAILTO:info@ccmaasmechelen.be
END:VEVENT
END:VCALENDAR