BEGIN:VCALENDAR
VERSION:2.0
PRODID:-//Sociale Kalender - ECPv6.2.9//NONSGML v1.0//EN
CALSCALE:GREGORIAN
METHOD:PUBLISH
X-ORIGINAL-URL:https://www.socialekalender.be
X-WR-CALDESC:Evenementen voor Sociale Kalender
REFRESH-INTERVAL;VALUE=DURATION:PT1H
X-Robots-Tag:noindex
X-PUBLISHED-TTL:PT1H
BEGIN:VTIMEZONE
TZID:Europe/Brussels
BEGIN:DAYLIGHT
TZOFFSETFROM:+0100
TZOFFSETTO:+0200
TZNAME:CEST
DTSTART:20200329T010000
END:DAYLIGHT
BEGIN:STANDARD
TZOFFSETFROM:+0200
TZOFFSETTO:+0100
TZNAME:CET
DTSTART:20201025T010000
END:STANDARD
END:VTIMEZONE
BEGIN:VEVENT
DTSTART;TZID=Europe/Brussels:20201203T190000
DTEND;TZID=Europe/Brussels:20201203T203000
DTSTAMP:20260423T144613
CREATED:20201130T080238Z
LAST-MODIFIED:20201130T080238Z
UID:5024-1607022000-1607027400@www.socialekalender.be
SUMMARY:Een rechtvaardige klimaattransitie
DESCRIPTION:Een webinar van het Universitair Centrum Sint-Ignatius Antwerpen\, met als ondertitel ‘fin du mois\, fin du monde’. Bea Cantillon (UA)\, een ambassadrice van Grootouders voor het Klimaat\, geeft een voorwoord\, gevolgd door een panelgesprek. Het webinar stelt de resultaten voor van een onderzoek naar de mogelijke impact van een CO2-belasting op huishoudelijke bestedingspatronen. Inschrijven verplicht via de kalender van www.ucsia.org.
URL:https://www.socialekalender.be/evenement/een-rechtvaardige-klimaattransitie/
LOCATION:ONLINE
ATTACH;FMTTYPE=image/png:https://www.socialekalender.be/wp-content/uploads/2020/11/UCSIA-klimaat.png
END:VEVENT
BEGIN:VEVENT
DTSTART;TZID=Europe/Brussels:20201203T200000
DTEND;TZID=Europe/Brussels:20201203T220000
DTSTAMP:20260423T144613
CREATED:20201029T091620Z
LAST-MODIFIED:20201029T091620Z
UID:4971-1607025600-1607032800@www.socialekalender.be
SUMMARY:Seks en macht in 1001 nacht
DESCRIPTION:Als de verteller ervan over een uitzonderlijke verbeeldingskracht beschikt\, dan kan een literair werk eeuwig leven verwerven. Sjahrazaad\, vertelster van de ‘Vertellingen van duizend en één nacht’ beschikt over zulke verbeeldingskracht. Elke nacht weeft ze verder aan een weefsel van verhalen\, die zowel elkaar opvolgen als deel uitmaken van elkaar. Zo slaagt zij erin bij elk ochtendgloren haar executie\, uitgevaardigd door koning Sjahrjaar\, uit te stellen. Uit weerwraak voor de ontrouw van zijn vrouw had die er een gewoonte van gemaakt een vrouw uit te kiezen\, met haar te slapen en haar bij het ochtendgloren door zijn vizier te laten ombrengen. \nDankzij de versie die tussen 1704 en 1717 in Europa verscheen\, heeft Sjahrazaad zich in de Europese cultuurgeschiedenis genesteld. Toch was de ontvangst niet onverdeeld gunstig. Enerzijds werd het erotische gehalte van de verhalen als stuitend ervaren of werden de verhalen afgedaan als inhoudsloze verzinsels. Anderzijds werden de morele lessen geprezen en de charme van de vrijblijvende en pretentieloze fantasie gekoesterd. \nGastspreker em. prof. Hugo Antonissen laat in het voorspel van deze lezing zijn licht schijnen op seks en islam. Daarna wordt het oog gericht op seks en macht. Twee thema’s die door de verhalen van 1001 nacht heen verdekt of open aan bod komen.
URL:https://www.socialekalender.be/evenement/seks-en-macht-in-1001-nacht/
LOCATION:Vrijzinnig Ontmoetingscentrum\, Prinsenhofstraat 29\, Maaseik\, Limburg\, 3680\, België
ATTACH;FMTTYPE=image/jpeg:https://www.socialekalender.be/wp-content/uploads/2020/10/1001_tableau-300x228-1.jpg
END:VEVENT
END:VCALENDAR