BEGIN:VCALENDAR
VERSION:2.0
PRODID:-//Sociale Kalender - ECPv6.2.9//NONSGML v1.0//EN
CALSCALE:GREGORIAN
METHOD:PUBLISH
X-ORIGINAL-URL:https://www.socialekalender.be
X-WR-CALDESC:Evenementen voor Sociale Kalender
REFRESH-INTERVAL;VALUE=DURATION:PT1H
X-Robots-Tag:noindex
X-PUBLISHED-TTL:PT1H
BEGIN:VTIMEZONE
TZID:Europe/Brussels
BEGIN:DAYLIGHT
TZOFFSETFROM:+0100
TZOFFSETTO:+0200
TZNAME:CEST
DTSTART:20200329T010000
END:DAYLIGHT
BEGIN:STANDARD
TZOFFSETFROM:+0200
TZOFFSETTO:+0100
TZNAME:CET
DTSTART:20201025T010000
END:STANDARD
END:VTIMEZONE
BEGIN:VEVENT
DTSTART;TZID=Europe/Brussels:20201214T190000
DTEND;TZID=Europe/Brussels:20201214T220000
DTSTAMP:20260423T144613
CREATED:20201007T143314Z
LAST-MODIFIED:20201204T061813Z
UID:4914-1607972400-1607983200@www.socialekalender.be
SUMMARY:Thomas Decreus over: wat is macht? GEANNULEERD
DESCRIPTION:Jong en bezonnen en scherp is Thomas Decreus. Hij is historicus en doctor in de wijsbegeerte. Zijn doctoraal proefschrift gaat over macht en representatie. Reeds in 2013 verscheen een geprezen werk van zijn hand “Een paradijs waait uit de storm”(EPO\, 2013). Met  “Dit is morgen” en “Spektakeldemocratie” toont hij zijn politiek-filosofische gedrevenheid. Thomas Decreus werkt als docent. Als journalist is hij onder meer de spitante en kritische stem van www.dewereldmorgen.be. In deze wankele tijden reflecteert hij over politiek en macht. Zijn laatste essay (Spektakeldemocratie) vond veel gehoor in de media en de (geo)-politieke filosofische analyses die hij maakt\, helpen ons meer zicht te krijgen op gewenste\, noodzakelijke\, verhoopte maatschappelijke verandering(en). Misschien kunnen we die avond ook vragen of er nog plaats is voor optimisme en wat hoop mag betekenen?
URL:https://www.socialekalender.be/evenement/thomas-decreus-over-wat-is-macht/
LOCATION:Academiezaal\, Plankstraat 18\, Sint-Truiden\, 3800\, België
ATTACH;FMTTYPE=image/jpeg:https://www.socialekalender.be/wp-content/uploads/2020/10/thomas-decreu.jpg
END:VEVENT
END:VCALENDAR