BEGIN:VCALENDAR
VERSION:2.0
PRODID:-//Sociale Kalender - ECPv6.2.9//NONSGML v1.0//EN
CALSCALE:GREGORIAN
METHOD:PUBLISH
X-ORIGINAL-URL:https://www.socialekalender.be
X-WR-CALDESC:Evenementen voor Sociale Kalender
REFRESH-INTERVAL;VALUE=DURATION:PT1H
X-Robots-Tag:noindex
X-PUBLISHED-TTL:PT1H
BEGIN:VTIMEZONE
TZID:Europe/Brussels
BEGIN:DAYLIGHT
TZOFFSETFROM:+0100
TZOFFSETTO:+0200
TZNAME:CEST
DTSTART:20200329T010000
END:DAYLIGHT
BEGIN:STANDARD
TZOFFSETFROM:+0200
TZOFFSETTO:+0100
TZNAME:CET
DTSTART:20201025T010000
END:STANDARD
END:VTIMEZONE
BEGIN:VEVENT
DTSTART;TZID=Europe/Brussels:20201226T150000
DTEND;TZID=Europe/Brussels:20201226T160000
DTSTAMP:20260423T144613
CREATED:20201004T092000Z
LAST-MODIFIED:20201214T105247Z
UID:4879-1608994800-1608998400@www.socialekalender.be
SUMMARY:Kringlopen voor een leefbare wereld (GAAT DOOR)
DESCRIPTION:De ernst en urgentie van de klimaatopwarming dringt tot vandaag nog niet door bij vele politici. Onder invloed van de machtige bedrijfslobby blijven ze zich focussen op een economisch model van eindeloze groei. Een model dat geen rekening houdt met het ecologisch plafond van onze planeet\, en evenmin met het sociaal fundament van haar inwoners. De vraag om verandering zal frequenter en zichtbaarder moeten worden\, en samen kunnen we daarvoor zorgen. We geloven in de kracht van samenhorigheid\, en ook in die van regelmaat. Daarom willen we iedereen met een hart voor mens en natuur graag uitnodigen om deel te nemen aan de stiltewandeling op De Ring (Groene Boulevard) voor een sociaal rechtvaardige en klimaatvriendelijke wereld. Met onze boodschap in de hand wandelen we vanaf 15u op een vreedzame manier in stilte één maal rond de kleine ring van Hasselt. In principe herhalen we dit wekelijks. Door de coronacrisis is dit momenteel niet mogelijk en houden we het bij de eerste zaterdag van elk nieuw seizoen\, in dit geval tweede kerstdag. Het initiatief gaat uit van De Ring\, een spontaan burgerinitiatief. Het wil naast de vele digitale platformen een laagdrempelig analoog platform creëren waar mensen hun vraag om verandering zichtbaar kunnen maken\, en daarenboven verbinding kunnen maken met elkaar. Zo werken we in solidariteit aan verandering. Ook in tijden van corona is het belangrijk dat deze stem gehoord blijft. We zorgen hiervoor in afspraak met de lokale politie: het dragen van mondmaskers en bewaren van 1\,5m afstand is verplicht. We wandelen in groepjes van maximaal vier personen. We kunnen voor en na de wandeling niet verzamelen\, zodat iedereen even na aankomst al op pad gezet wordt. We willen er graag een kleurrijke optocht van maken\, zodat we het dragen van bordjes en spandoeken aanmoedigen!
URL:https://www.socialekalender.be/evenement/kringlopen-voor-een-leefbare-wereld-3/
LOCATION:Kolonel Dusartplein\, Kolonel Dusartplein\, Hasselt\, 3500
ATTACH;FMTTYPE=image/jpeg:https://www.socialekalender.be/wp-content/uploads/2020/10/De-Ring-5-1.jpg
END:VEVENT
END:VCALENDAR