BEGIN:VCALENDAR
VERSION:2.0
PRODID:-//Sociale Kalender - ECPv6.2.9//NONSGML v1.0//EN
CALSCALE:GREGORIAN
METHOD:PUBLISH
X-WR-CALNAME:Sociale Kalender
X-ORIGINAL-URL:https://www.socialekalender.be
X-WR-CALDESC:Evenementen voor Sociale Kalender
REFRESH-INTERVAL;VALUE=DURATION:PT1H
X-Robots-Tag:noindex
X-PUBLISHED-TTL:PT1H
BEGIN:VTIMEZONE
TZID:Europe/Brussels
BEGIN:DAYLIGHT
TZOFFSETFROM:+0100
TZOFFSETTO:+0200
TZNAME:CEST
DTSTART:20200329T010000
END:DAYLIGHT
BEGIN:STANDARD
TZOFFSETFROM:+0200
TZOFFSETTO:+0100
TZNAME:CET
DTSTART:20201025T010000
END:STANDARD
END:VTIMEZONE
BEGIN:VEVENT
DTSTART;TZID=Europe/Brussels:20201227T140000
DTEND;TZID=Europe/Brussels:20201227T160000
DTSTAMP:20260423T144615
CREATED:20201025T101359Z
LAST-MODIFIED:20201025T101359Z
UID:4960-1609077600-1609084800@www.socialekalender.be
SUMMARY:Saaie wandeling
DESCRIPTION:Tijdens de laatste dagen van het jaar zoeken we met een groep gelijkgestemden tegenwicht voor een jaar vol virus-\, racisme- en verkiezingschaos. We maken een doorsnee natuurwandeling doorheen alledaagse landschappen en ontdekken dat een beetje saai echt heel veel deugd kan doen!
URL:https://www.socialekalender.be/evenement/saaie-wandeling/
LOCATION:Orshof\, Heymansweg 2\, Nerglabbeek - Oudsbergen\, Limburg\, 3670\, België
ATTACH;FMTTYPE=image/jpeg:https://www.socialekalender.be/wp-content/uploads/2018/06/62b71ccf-ac23-41df-9e33-94c200020144_herinneringswandeling.jpg
END:VEVENT
END:VCALENDAR