BEGIN:VCALENDAR
VERSION:2.0
PRODID:-//Sociale Kalender - ECPv6.2.9//NONSGML v1.0//EN
CALSCALE:GREGORIAN
METHOD:PUBLISH
X-WR-CALNAME:Sociale Kalender
X-ORIGINAL-URL:https://www.socialekalender.be
X-WR-CALDESC:Evenementen voor Sociale Kalender
REFRESH-INTERVAL;VALUE=DURATION:PT1H
X-Robots-Tag:noindex
X-PUBLISHED-TTL:PT1H
BEGIN:VTIMEZONE
TZID:Europe/Brussels
BEGIN:DAYLIGHT
TZOFFSETFROM:+0100
TZOFFSETTO:+0200
TZNAME:CEST
DTSTART:20210328T010000
END:DAYLIGHT
BEGIN:STANDARD
TZOFFSETFROM:+0200
TZOFFSETTO:+0100
TZNAME:CET
DTSTART:20211031T010000
END:STANDARD
END:VTIMEZONE
BEGIN:VEVENT
DTSTART;TZID=Europe/Brussels:20210114T193000
DTEND;TZID=Europe/Brussels:20210114T193000
DTSTAMP:20260423T050606
CREATED:20201215T095843Z
LAST-MODIFIED:20201215T095843Z
UID:5041-1610652600-1610652600@www.socialekalender.be
SUMMARY:Naima Charkaoui over racisme (webinar)
DESCRIPTION:Op donderdag 14 januari komt politicologe Naima Charkaoui aan het woord over de emotionele impact van racisme op slachtoffers. Ze is de dochter van een Marokkaanse vader en een Vlaamse moeder. Ze groeide op in Roeselare en studeerde in Gent politieke wetenschappen.Bekendheid kreeg Charkaoui als directeur van het Minderhedenforum\, een koepel van organisaties van etnisch-culturele minderheden. Het wordt een boeiende (vermoedelijk ook pakkende) sessie met een bijzonder verhaal over pijn\, uitsluiting\, hoop en weerbaarheid. Schrijf je hier in.  Lees alvast het interview van Sociaal.Net met Naima Charkaoui.
URL:https://www.socialekalender.be/evenement/naima-charkaoui-over-racisme-webinar/
LOCATION:ONLINE
ATTACH;FMTTYPE=image/jpeg:https://www.socialekalender.be/wp-content/uploads/2020/12/Naima-Charkaoui.jpg
END:VEVENT
END:VCALENDAR