BEGIN:VCALENDAR
VERSION:2.0
PRODID:-//Sociale Kalender - ECPv6.2.9//NONSGML v1.0//EN
CALSCALE:GREGORIAN
METHOD:PUBLISH
X-ORIGINAL-URL:https://www.socialekalender.be
X-WR-CALDESC:Evenementen voor Sociale Kalender
REFRESH-INTERVAL;VALUE=DURATION:PT1H
X-Robots-Tag:noindex
X-PUBLISHED-TTL:PT1H
BEGIN:VTIMEZONE
TZID:Europe/Brussels
BEGIN:DAYLIGHT
TZOFFSETFROM:+0100
TZOFFSETTO:+0200
TZNAME:CEST
DTSTART:20210328T010000
END:DAYLIGHT
BEGIN:STANDARD
TZOFFSETFROM:+0200
TZOFFSETTO:+0100
TZNAME:CET
DTSTART:20211031T010000
END:STANDARD
END:VTIMEZONE
BEGIN:VEVENT
DTSTART;TZID=Europe/Brussels:20210116T080000
DTEND;TZID=Europe/Brussels:20210116T130000
DTSTAMP:20260423T050643
CREATED:20201121T154755Z
LAST-MODIFIED:20201121T154755Z
UID:5015-1610784000-1610802000@www.socialekalender.be
SUMMARY:Biomarkt
DESCRIPTION:Limburg is erg rijk aan basisinitiatieven met een ecologisch en/of sociaal profiel. Hierdoor is er een sterk netwerk gegroeid van mensen en groepen die bewust\, duurzaam en solidair door het leven willen gaan. Tot ons groot geluk kunnen de werkingen stilaan weer recht veren na de versoepeling van de coronamaatregelen. Op zaterdag 23 mei was het zover voor de wekelijkse biomarkt in Winterslag. Sinds die dag kan de Vennestraat weer elke zaterdagochtend ontwaken met een levendige markt. Enkele meters verder\, ter hoogte van de Hoefstadstraat 21\, openen dan ook de kramen van de biomarkt. Het is een initiatief van vzw Rosendal Marked\, een project naar Deense inspiratie van Gilberte Claes. De bioboerderij Het Vrije Veld van Souliman Diraa verleende er dadelijk haar medewerking aan. Drie verkooppunten zorgen voor een gevarieerd aanbod. Binnen staat Gilberte achter de toog en biedt ze een assortiment van ter plaatse gebakken broden\, taarten en gebak aan. Robin Geurts is er de bakker van dienst. Daarnaast verkoopt Gilberte nog sappen en ook kazen vanuit de korte keten (Karditsel\, Catharinadal). Buiten brengt Souliman groenten en fruit aan de man\, deels van eigen teelt\, deels van andere Limburgse bioboeren\, aangevuld met enkele producten uit de biologische groothandel. Even verderop staat Bram Kriekels van Mycotopia (Diepenbeek) met verschillende soorten zelfgeteelde paddenstoelen. De biomarkt is het jaar rond present.
URL:https://www.socialekalender.be/evenement/biomarkt-7/
LOCATION:limburg
ATTACH;FMTTYPE=image/jpeg:https://www.socialekalender.be/wp-content/uploads/2020/09/Souliman-biomarkt2-1-scaled.jpg
END:VEVENT
BEGIN:VEVENT
DTSTART;TZID=Europe/Brussels:20210116T100000
DTEND;TZID=Europe/Brussels:20210116T120000
DTSTAMP:20260423T050643
CREATED:20201214T105951Z
LAST-MODIFIED:20201214T105951Z
UID:5037-1610791200-1610798400@www.socialekalender.be
SUMMARY:Boomplantactie Zwarte Berg
DESCRIPTION:De terril van de mijn van Zwartberg ligt grotendeels op het grondgebied van Opglabbeek. Sinds kort vormt hij samen met zijn omgeving een reservaat van Limburgs Landschap vzw. Op 16 januari gaat deze vereniging samen met minister Demir bomen planten. Dat gebeurt binnen het kader van een boscompensatie\, coronaproof. We komen samen aan de parkeerplaats van de Baarsstraat\, op grondgebied Houthalen. Je kan je inschrijven tot 13 januari via dirk.ottenburghs@limburgs-landschap.be met vermelding van het aantal personen (maximum 4 in jouw bubbel) en hun naam. Na inschrijving ontvang je een bevestigingsmail met meer info en afspraken. Kleed je warm\, draag stevige schoenen\, en breng je eigen materiaal mee (handschoenen en spade).
URL:https://www.socialekalender.be/evenement/boomplantactie-zwarte-berg/
LOCATION:Baarstraat\, Houthalen\, Limburg\, 3530\, België
ATTACH;FMTTYPE=image/jpeg:https://www.socialekalender.be/wp-content/uploads/2020/12/de-zwarte-berg12882.jpg
ORGANIZER;CN="Limburgs Landschap vzw":MAILTO:info@limburgs-landschap.be
END:VEVENT
END:VCALENDAR