BEGIN:VCALENDAR
VERSION:2.0
PRODID:-//Sociale Kalender - ECPv6.2.9//NONSGML v1.0//EN
CALSCALE:GREGORIAN
METHOD:PUBLISH
X-ORIGINAL-URL:https://www.socialekalender.be
X-WR-CALDESC:Evenementen voor Sociale Kalender
REFRESH-INTERVAL;VALUE=DURATION:PT1H
X-Robots-Tag:noindex
X-PUBLISHED-TTL:PT1H
BEGIN:VTIMEZONE
TZID:Europe/Brussels
BEGIN:DAYLIGHT
TZOFFSETFROM:+0100
TZOFFSETTO:+0200
TZNAME:CEST
DTSTART:20210328T010000
END:DAYLIGHT
BEGIN:STANDARD
TZOFFSETFROM:+0200
TZOFFSETTO:+0100
TZNAME:CET
DTSTART:20211031T010000
END:STANDARD
END:VTIMEZONE
BEGIN:VEVENT
DTSTART;TZID=Europe/Brussels:20210206T100000
DTEND;TZID=Europe/Brussels:20210206T100000
DTSTAMP:20260422T194949
CREATED:20210128T095415Z
LAST-MODIFIED:20210128T095415Z
UID:5116-1612605600-1612605600@www.socialekalender.be
SUMMARY:Gesprekstafel over Hasselt en ontwikkelingshulp
DESCRIPTION:De ontbijtsessies van “Hasselt in de wereld” zijn in deze coronatijden opgeschort. In de plaats organiseert de Dienst Gelijke Kansen\, samen met een reeks partners\, een tafelgesprek over internationale solidariteit met Meryame Kitir (Minister van ontwikkelingssamenwerking)\, Joost Venken (Hasseltse Schepen van Internationale Solidariteit) en Els Hertogen (foto\, directeur 11.11.11). Je kan vooraf vragen insturen via www.hasselt.be/hasseltindewereld. Op de dag zelf vind je een link via https://www.facebook.com/gelijkekansenhasselt.
URL:https://www.socialekalender.be/evenement/gesprekstafel-over-hasselt-en-ontwikkelingshulp/
LOCATION:ONLINE
ATTACH;FMTTYPE=image/jpeg:https://www.socialekalender.be/wp-content/uploads/2021/01/Els-Hertogen.jpg
END:VEVENT
END:VCALENDAR