BEGIN:VCALENDAR
VERSION:2.0
PRODID:-//Sociale Kalender - ECPv6.2.9//NONSGML v1.0//EN
CALSCALE:GREGORIAN
METHOD:PUBLISH
X-ORIGINAL-URL:https://www.socialekalender.be
X-WR-CALDESC:Evenementen voor Sociale Kalender
REFRESH-INTERVAL;VALUE=DURATION:PT1H
X-Robots-Tag:noindex
X-PUBLISHED-TTL:PT1H
BEGIN:VTIMEZONE
TZID:Europe/Brussels
BEGIN:DAYLIGHT
TZOFFSETFROM:+0100
TZOFFSETTO:+0200
TZNAME:CEST
DTSTART:20210328T010000
END:DAYLIGHT
BEGIN:STANDARD
TZOFFSETFROM:+0200
TZOFFSETTO:+0100
TZNAME:CET
DTSTART:20211031T010000
END:STANDARD
END:VTIMEZONE
BEGIN:VEVENT
DTSTART;TZID=Europe/Brussels:20210225T193000
DTEND;TZID=Europe/Brussels:20210225T203000
DTSTAMP:20260422T211434
CREATED:20210131T105028Z
LAST-MODIFIED:20210131T105028Z
UID:5143-1614281400-1614285000@www.socialekalender.be
SUMMARY:Marc Heughebaert over wooncrisis (webinar)
DESCRIPTION:Ons land zit in een wooncrisis. De stijgende prijzen op de koopmarkt halen het nieuws\, de problematiek op de huurmarkt voor lagere inkomens is echter nijpender. Sociale woningen en voldoende betaalbare huurwoningen op de private markt voor de lagere middenklassen zijn nodig. Een grondige analyse door woonexpert Marc Heughebaert n.a.v. het woondossier in het laatste nummer van het magazine Oikos.
URL:https://www.socialekalender.be/evenement/marc-heughebaert-over-wooncrisis-webinar/
LOCATION:limburg
ATTACH;FMTTYPE=image/jpeg:https://www.socialekalender.be/wp-content/uploads/2021/01/Marc-Heughebaert.jpg
END:VEVENT
END:VCALENDAR