BEGIN:VCALENDAR
VERSION:2.0
PRODID:-//Sociale Kalender - ECPv6.2.9//NONSGML v1.0//EN
CALSCALE:GREGORIAN
METHOD:PUBLISH
X-WR-CALNAME:Sociale Kalender
X-ORIGINAL-URL:https://www.socialekalender.be
X-WR-CALDESC:Evenementen voor Sociale Kalender
REFRESH-INTERVAL;VALUE=DURATION:PT1H
X-Robots-Tag:noindex
X-PUBLISHED-TTL:PT1H
BEGIN:VTIMEZONE
TZID:Europe/Brussels
BEGIN:DAYLIGHT
TZOFFSETFROM:+0100
TZOFFSETTO:+0200
TZNAME:CEST
DTSTART:20210328T010000
END:DAYLIGHT
BEGIN:STANDARD
TZOFFSETFROM:+0200
TZOFFSETTO:+0100
TZNAME:CET
DTSTART:20211031T010000
END:STANDARD
END:VTIMEZONE
BEGIN:VEVENT
DTSTART;TZID=Europe/Brussels:20210227T080000
DTEND;TZID=Europe/Brussels:20210227T130000
DTSTAMP:20260422T194953
CREATED:20210128T073331Z
LAST-MODIFIED:20210128T073331Z
UID:5086-1614412800-1614430800@www.socialekalender.be
SUMMARY:Biomarkt
DESCRIPTION:Limburg is erg rijk aan basisinitiatieven met een ecologisch en/of sociaal profiel. Hierdoor is er een sterk netwerk gegroeid van mensen en groepen die bewust\, duurzaam en solidair door het leven willen gaan. Ook tijdens deze coronacrisis blijven er onder de oppervlakte heel wat dingen doorleven en groeien. Zo is er sinds 23 mei weer een biomarkt in Winterslag. Elke zaterdag tijdens de markt in de Vennestraat opent zij haar deuren en kramen enkele meters verderop\, ter hoogte van de Hoefstadstraat 21. Het is een initiatief van vzw Rosendal Marked\, een project naar Deense inspiratie van Gilberte Claes. De bioboerderij Het Vrije Veld van Souliman Diraa verleende er dadelijk haar medewerking aan. Drie verkooppunten zorgen voor een gevarieerd aanbod. Binnen staat Gilberte achter de toog en biedt ze een assortiment van ter plaatse gebakken broden\, taarten en gebak aan. Robin Geurts is er de bakker van dienst. Daarnaast verkoopt Gilberte nog sappen en ook kazen vanuit de korte keten (Karditsel\, Catharinadal). Buiten brengt Souliman groenten en fruit aan de man\, deels van eigen teelt\, deels van andere Limburgse bioboeren\, aangevuld met enkele producten uit de biologische groothandel. Even verderop staat Bram Kriekels van Mycotopia (Diepenbeek) met verschillende soorten zelfgeteelde paddenstoelen. De biomarkt is het jaar rond present.
URL:https://www.socialekalender.be/evenement/biomarkt-8/
LOCATION:Hoefstadstraat\, Hoefstadstraat\, Winterslag-Genk\, Limburg\, 3600\, België
ATTACH;FMTTYPE=image/jpeg:https://www.socialekalender.be/wp-content/uploads/2020/07/boerenmarkt.jpg
END:VEVENT
BEGIN:VEVENT
DTSTART;TZID=Europe/Brussels:20210227T153000
DTEND;TZID=Europe/Brussels:20210227T171500
DTSTAMP:20260422T194953
CREATED:20201225T140314Z
LAST-MODIFIED:20210207T080513Z
UID:5066-1614439800-1614446100@www.socialekalender.be
SUMMARY:Limburgse contactdag natuuronderzoek
DESCRIPTION:We vieren dit jaar de dertigste verjaardag van LIKONA\, het huidige Limburgs Netwerk Natuuronderzoek. De coronacrisis zorgt ervoor dat we elkaar voor de eerste keer in die geschiedenis niet lijfelijk kunnen ontmoeten: de jaarlijkse contactdag moet dit jaar online plaatsvinden. Onder andere prof. dr. Valerie Trouet komt spreken\, over jaarringen van bomen en wat ze ons over het klimaat vertellen. Trouwens\, de hele voorafgaande week zullen er van maandag tot vrijdag webinars gehouden worden. Meer informatie op de website.
URL:https://www.socialekalender.be/evenement/limburgse-contactdag-natuuronderzoek/
LOCATION:ONLINE
ATTACH;FMTTYPE=image/jpeg:https://www.socialekalender.be/wp-content/uploads/2020/12/landschap-113104.jpg
END:VEVENT
END:VCALENDAR