BEGIN:VCALENDAR
VERSION:2.0
PRODID:-//Sociale Kalender - ECPv6.2.9//NONSGML v1.0//EN
CALSCALE:GREGORIAN
METHOD:PUBLISH
X-ORIGINAL-URL:https://www.socialekalender.be
X-WR-CALDESC:Evenementen voor Sociale Kalender
REFRESH-INTERVAL;VALUE=DURATION:PT1H
X-Robots-Tag:noindex
X-PUBLISHED-TTL:PT1H
BEGIN:VTIMEZONE
TZID:Europe/Brussels
BEGIN:DAYLIGHT
TZOFFSETFROM:+0100
TZOFFSETTO:+0200
TZNAME:CEST
DTSTART:20210328T010000
END:DAYLIGHT
BEGIN:STANDARD
TZOFFSETFROM:+0200
TZOFFSETTO:+0100
TZNAME:CET
DTSTART:20211031T010000
END:STANDARD
END:VTIMEZONE
BEGIN:VEVENT
DTSTART;TZID=Europe/Brussels:20210301T133000
DTEND;TZID=Europe/Brussels:20210301T154500
DTSTAMP:20260422T211434
CREATED:20210213T140238Z
LAST-MODIFIED:20210213T140238Z
UID:5180-1614605400-1614613500@www.socialekalender.be
SUMMARY:Werken als sociale professionals in diverse realiteit
DESCRIPTION:Op deze complimentendag organiseert het Vlaams Platform Sterk Sociaal Werk een derde webinar in de reeks rond diversiteit. De organisatoren focussen op de concrete praktijk en laten verschillende inspirerende voorbeelden aan het woord. Programma en registratie via https://departementwvg.be/ssw/kalender.
URL:https://www.socialekalender.be/evenement/werken-als-sociale-professionals-in-diverse-realiteit/
LOCATION:ONLINE
ATTACH;FMTTYPE=image/jpeg:https://www.socialekalender.be/wp-content/uploads/2021/02/diversiteit.jpg
END:VEVENT
END:VCALENDAR